BEGIN:VCALENDAR
VERSION:2.0
PRODID:-//Paulding County Democrats - ECPv6.15.20//NONSGML v1.0//EN
CALSCALE:GREGORIAN
METHOD:PUBLISH
X-WR-CALNAME:Paulding County Democrats
X-ORIGINAL-URL:https://pauldingcountydemocrats.org
X-WR-CALDESC:Events for Paulding County Democrats
REFRESH-INTERVAL;VALUE=DURATION:PT1H
X-Robots-Tag:noindex
X-PUBLISHED-TTL:PT1H
BEGIN:VTIMEZONE
TZID:America/New_York
BEGIN:DAYLIGHT
TZOFFSETFROM:-0500
TZOFFSETTO:-0400
TZNAME:EDT
DTSTART:20240310T070000
END:DAYLIGHT
BEGIN:STANDARD
TZOFFSETFROM:-0400
TZOFFSETTO:-0500
TZNAME:EST
DTSTART:20241103T060000
END:STANDARD
BEGIN:DAYLIGHT
TZOFFSETFROM:-0500
TZOFFSETTO:-0400
TZNAME:EDT
DTSTART:20250309T070000
END:DAYLIGHT
BEGIN:STANDARD
TZOFFSETFROM:-0400
TZOFFSETTO:-0500
TZNAME:EST
DTSTART:20251102T060000
END:STANDARD
BEGIN:DAYLIGHT
TZOFFSETFROM:-0500
TZOFFSETTO:-0400
TZNAME:EDT
DTSTART:20260308T070000
END:DAYLIGHT
BEGIN:STANDARD
TZOFFSETFROM:-0400
TZOFFSETTO:-0500
TZNAME:EST
DTSTART:20261101T060000
END:STANDARD
END:VTIMEZONE
BEGIN:VEVENT
DTSTART;TZID=America/New_York:20250426T090000
DTEND;TZID=America/New_York:20250426T123000
DTSTAMP:20260425T001633
CREATED:20250424T052734Z
LAST-MODIFIED:20250424T052928Z
UID:1998-1745658000-1745670600@pauldingcountydemocrats.org
SUMMARY:Touch a Truck
DESCRIPTION:Paulding Democrats will have a big orange tractor on display at the Paulding Parks and Recreation Touch a Truck event! Kids are invited to touch\, sit in\, and “drive” a variety of vehicles from the community and Paulding government departments. \nWe’ll have candy and stickers for the kids\, and information about the 2025 elections for their parents. \nWe will need plenty of folks to staff our booth. Wear your favorite Democratic t-shirt and let’s remind Paulding County that DEMOCRATS LIVE HERE (and we’re 40% of the voters)!
URL:https://pauldingcountydemocrats.org/event/touch-a-truck/
LOCATION:Watson Government Complex\, 240 Constitution Blvd\, Dallas\, GA\, 30132\, United States
CATEGORIES:Community
END:VEVENT
END:VCALENDAR