BEGIN:VCALENDAR
VERSION:2.0
PRODID:-//Paulding County Democrats - ECPv6.15.20//NONSGML v1.0//EN
CALSCALE:GREGORIAN
METHOD:PUBLISH
X-WR-CALNAME:Paulding County Democrats
X-ORIGINAL-URL:https://pauldingcountydemocrats.org
X-WR-CALDESC:Events for Paulding County Democrats
REFRESH-INTERVAL;VALUE=DURATION:PT1H
X-Robots-Tag:noindex
X-PUBLISHED-TTL:PT1H
BEGIN:VTIMEZONE
TZID:America/New_York
BEGIN:DAYLIGHT
TZOFFSETFROM:-0500
TZOFFSETTO:-0400
TZNAME:EDT
DTSTART:20240310T070000
END:DAYLIGHT
BEGIN:STANDARD
TZOFFSETFROM:-0400
TZOFFSETTO:-0500
TZNAME:EST
DTSTART:20241103T060000
END:STANDARD
BEGIN:DAYLIGHT
TZOFFSETFROM:-0500
TZOFFSETTO:-0400
TZNAME:EDT
DTSTART:20250309T070000
END:DAYLIGHT
BEGIN:STANDARD
TZOFFSETFROM:-0400
TZOFFSETTO:-0500
TZNAME:EST
DTSTART:20251102T060000
END:STANDARD
BEGIN:DAYLIGHT
TZOFFSETFROM:-0500
TZOFFSETTO:-0400
TZNAME:EDT
DTSTART:20260308T070000
END:DAYLIGHT
BEGIN:STANDARD
TZOFFSETFROM:-0400
TZOFFSETTO:-0500
TZNAME:EST
DTSTART:20261101T060000
END:STANDARD
END:VTIMEZONE
BEGIN:VEVENT
DTSTART;TZID=America/New_York:20250516T190000
DTEND;TZID=America/New_York:20250516T203000
DTSTAMP:20260424T224735
CREATED:20250506T012906Z
LAST-MODIFIED:20250506T012907Z
UID:2011-1747422000-1747427400@pauldingcountydemocrats.org
SUMMARY:Banned Book Club
DESCRIPTION:Join the Paulding County Democrats for the first meeting of our Banned Book Club. We’ll have an evening of discussion and celebration of banned books. Let’s explore the stories challenged and understand the importance of freedom of expression. \nOur first book will be “Gender Queer\,” a 2019 graphic memoir written and illustrated by Maia Kobabe. It recounts Kobabe’s journey from adolescence to adulthood and the author’s exploration of gender identity and sexuality\, ultimately identifying as being outside of the gender binary. It has become the most challenged book according to the American Library Association. \nPlease purchase and read the book ahead of the book club meeting. \nThis event will be at a private home in Hiram. Coffee and soft drinks will be provided. Please bring a snack to share. \nLet’s stand together for the freedom to read and share ideas! \nRegister to attend on Mobilize in order to receive address!
URL:https://pauldingcountydemocrats.org/event/banned-book-club-may-2025/
END:VEVENT
END:VCALENDAR