BEGIN:VCALENDAR
VERSION:2.0
PRODID:-//Paulding County Democrats - ECPv6.15.20//NONSGML v1.0//EN
CALSCALE:GREGORIAN
METHOD:PUBLISH
X-ORIGINAL-URL:https://pauldingcountydemocrats.org
X-WR-CALDESC:Events for Paulding County Democrats
REFRESH-INTERVAL;VALUE=DURATION:PT1H
X-Robots-Tag:noindex
X-PUBLISHED-TTL:PT1H
BEGIN:VTIMEZONE
TZID:America/New_York
BEGIN:DAYLIGHT
TZOFFSETFROM:-0500
TZOFFSETTO:-0400
TZNAME:EDT
DTSTART:20240310T070000
END:DAYLIGHT
BEGIN:STANDARD
TZOFFSETFROM:-0400
TZOFFSETTO:-0500
TZNAME:EST
DTSTART:20241103T060000
END:STANDARD
BEGIN:DAYLIGHT
TZOFFSETFROM:-0500
TZOFFSETTO:-0400
TZNAME:EDT
DTSTART:20250309T070000
END:DAYLIGHT
BEGIN:STANDARD
TZOFFSETFROM:-0400
TZOFFSETTO:-0500
TZNAME:EST
DTSTART:20251102T060000
END:STANDARD
BEGIN:DAYLIGHT
TZOFFSETFROM:-0500
TZOFFSETTO:-0400
TZNAME:EDT
DTSTART:20260308T070000
END:DAYLIGHT
BEGIN:STANDARD
TZOFFSETFROM:-0400
TZOFFSETTO:-0500
TZNAME:EST
DTSTART:20261101T060000
END:STANDARD
END:VTIMEZONE
BEGIN:VEVENT
DTSTART;TZID=America/New_York:20250528T190000
DTEND;TZID=America/New_York:20250528T210000
DTSTAMP:20260424T211017
CREATED:20250525T031240Z
LAST-MODIFIED:20250525T035827Z
UID:2134-1748458800-1748466000@pauldingcountydemocrats.org
SUMMARY:Dining With Dems
DESCRIPTION:Join fellow Democrats\, progressives\, and community members for an evening of good food\, great conversation\, and grassroots organizing! Dining with Dems is a great way to build relationships\, share ideas\, and strengthen our movement right here in Paulding County. \nWhether you’re a longtime supporter or just starting to get involved\, we’d love to have you at the table. Come hungry for change—and dinner!
URL:https://pauldingcountydemocrats.org/event/dining-with-dems-may-2025/
LOCATION:O’Charley’s Hiram\, 4790 Jimmy Lee Smith Parkway\, Hiram\, GA\, 30141\, United States
CATEGORIES:Community
ATTACH;FMTTYPE=image/png:https://pauldingcountydemocrats.org/wp-content/uploads/2025/05/Dining-W-Dems-May-28-2025-1.png
END:VEVENT
END:VCALENDAR