BEGIN:VCALENDAR
VERSION:2.0
PRODID:-//Paulding County Democrats - ECPv6.15.20//NONSGML v1.0//EN
CALSCALE:GREGORIAN
METHOD:PUBLISH
X-WR-CALNAME:Paulding County Democrats
X-ORIGINAL-URL:https://pauldingcountydemocrats.org
X-WR-CALDESC:Events for Paulding County Democrats
REFRESH-INTERVAL;VALUE=DURATION:PT1H
X-Robots-Tag:noindex
X-PUBLISHED-TTL:PT1H
BEGIN:VTIMEZONE
TZID:America/New_York
BEGIN:DAYLIGHT
TZOFFSETFROM:-0500
TZOFFSETTO:-0400
TZNAME:EDT
DTSTART:20240310T070000
END:DAYLIGHT
BEGIN:STANDARD
TZOFFSETFROM:-0400
TZOFFSETTO:-0500
TZNAME:EST
DTSTART:20241103T060000
END:STANDARD
BEGIN:DAYLIGHT
TZOFFSETFROM:-0500
TZOFFSETTO:-0400
TZNAME:EDT
DTSTART:20250309T070000
END:DAYLIGHT
BEGIN:STANDARD
TZOFFSETFROM:-0400
TZOFFSETTO:-0500
TZNAME:EST
DTSTART:20251102T060000
END:STANDARD
BEGIN:DAYLIGHT
TZOFFSETFROM:-0500
TZOFFSETTO:-0400
TZNAME:EDT
DTSTART:20260308T070000
END:DAYLIGHT
BEGIN:STANDARD
TZOFFSETFROM:-0400
TZOFFSETTO:-0500
TZNAME:EST
DTSTART:20261101T060000
END:STANDARD
END:VTIMEZONE
BEGIN:VEVENT
DTSTART;TZID=America/New_York:20250617T070000
DTEND;TZID=America/New_York:20250617T190000
DTSTAMP:20260424T210912
CREATED:20250511T030634Z
LAST-MODIFIED:20250511T030634Z
UID:2020-1750143600-1750186800@pauldingcountydemocrats.org
SUMMARY:Georgia Public Service Commission Primary Election - Districts 2 & 3
DESCRIPTION:This is your chance to help shape Georgia’s energy future. The PSC makes decisions that directly affect your power bills\, broadband access\, and the state’s energy strategy. Make sure your voice is part of the conversation!
URL:https://pauldingcountydemocrats.org/event/psc-primary-2025/
CATEGORIES:Election
END:VEVENT
BEGIN:VEVENT
DTSTART;TZID=America/New_York:20250617T190000
DTEND;TZID=America/New_York:20250617T200000
DTSTAMP:20260424T210912
CREATED:20250603T222159Z
LAST-MODIFIED:20250603T222209Z
UID:2173-1750186800-1750190400@pauldingcountydemocrats.org
SUMMARY:Chat with the Chair
DESCRIPTION:Have questions\, ideas\, or want to get more involved? Drop by and chat with our Chair\, Madison DeLille! Whether you stay for five minutes or the full hour\, this is your chance to connect directly with local Democratic leadership. \nBring your thoughts\, your energy\, and your curiosity—we’re building a stronger\, bluer Paulding\, and we need you to do it.
URL:https://pauldingcountydemocrats.org/event/chat-with-the-chair-june-2025/
CATEGORIES:Virtual
END:VEVENT
END:VCALENDAR