BEGIN:VCALENDAR
VERSION:2.0
PRODID:-//Paulding County Democrats - ECPv6.15.20//NONSGML v1.0//EN
CALSCALE:GREGORIAN
METHOD:PUBLISH
X-ORIGINAL-URL:https://pauldingcountydemocrats.org
X-WR-CALDESC:Events for Paulding County Democrats
REFRESH-INTERVAL;VALUE=DURATION:PT1H
X-Robots-Tag:noindex
X-PUBLISHED-TTL:PT1H
BEGIN:VTIMEZONE
TZID:America/New_York
BEGIN:DAYLIGHT
TZOFFSETFROM:-0500
TZOFFSETTO:-0400
TZNAME:EDT
DTSTART:20240310T070000
END:DAYLIGHT
BEGIN:STANDARD
TZOFFSETFROM:-0400
TZOFFSETTO:-0500
TZNAME:EST
DTSTART:20241103T060000
END:STANDARD
BEGIN:DAYLIGHT
TZOFFSETFROM:-0500
TZOFFSETTO:-0400
TZNAME:EDT
DTSTART:20250309T070000
END:DAYLIGHT
BEGIN:STANDARD
TZOFFSETFROM:-0400
TZOFFSETTO:-0500
TZNAME:EST
DTSTART:20251102T060000
END:STANDARD
BEGIN:DAYLIGHT
TZOFFSETFROM:-0500
TZOFFSETTO:-0400
TZNAME:EDT
DTSTART:20260308T070000
END:DAYLIGHT
BEGIN:STANDARD
TZOFFSETFROM:-0400
TZOFFSETTO:-0500
TZNAME:EST
DTSTART:20261101T060000
END:STANDARD
END:VTIMEZONE
BEGIN:VEVENT
DTSTART;TZID=America/New_York:20250621T150000
DTEND;TZID=America/New_York:20250621T170000
DTSTAMP:20260424T210920
CREATED:20250621T025311Z
LAST-MODIFIED:20250621T025407Z
UID:2423-1750518000-1750525200@pauldingcountydemocrats.org
SUMMARY:Juneteenth in Dallas
DESCRIPTION:Join us in Dallas at the ACT-SO NAACP Juneteenth Celebration! Paulding Democrats will be walking around the festival sharing information about the 2025 elections and encouraging voter registration. We have a batch of new stickers for various issues that you can wear and pass out to anyone who wants them. And we will remind Paulding County that DEMOCRATS LIVE HERE. In fact\, we were 40% of the voters in 2024.
URL:https://pauldingcountydemocrats.org/event/2025-juneteenth-in-dallas/
LOCATION:Paulding County Parks and Recreation Complex\, 210 Paulding Lane\, Dallas\, GA\, 30132\, United States
CATEGORIES:Community
END:VEVENT
BEGIN:VEVENT
DTSTART;TZID=America/New_York:20250621T180000
DTEND;TZID=America/New_York:20250621T200000
DTSTAMP:20260424T210920
CREATED:20250621T025619Z
LAST-MODIFIED:20250621T025648Z
UID:2426-1750528800-1750536000@pauldingcountydemocrats.org
SUMMARY:Hiram Juneteenth Festival
DESCRIPTION:Celebrate Juneteenth in Hiram! Paulding Democrats will be walking around the festival sharing information about the 2025 elections and encouraging voter registration. We have a batch of new stickers for various issues that you can wear and pass out to anyone who wants them. And we will remind the City of Hiram that DEMOCRATS LIVE HERE. In fact\, of the five voting precincts that include the City of Hiram\, three are majority blue and two are solid purple. \nWear your favorite Democratic t-shirt and comfortable shoes for this outdoor event. Parking is accessible at 76 Seaboard Street.
URL:https://pauldingcountydemocrats.org/event/2025-hiram-juneteenth-festival/
LOCATION:76 Seaboard St\, 76 Seaboard St\, Hiram\, GA\, 30141\, United States
CATEGORIES:Community
END:VEVENT
END:VCALENDAR