BEGIN:VCALENDAR
VERSION:2.0
PRODID:-//Paulding County Democrats - ECPv6.15.20//NONSGML v1.0//EN
CALSCALE:GREGORIAN
METHOD:PUBLISH
X-ORIGINAL-URL:https://pauldingcountydemocrats.org
X-WR-CALDESC:Events for Paulding County Democrats
REFRESH-INTERVAL;VALUE=DURATION:PT1H
X-Robots-Tag:noindex
X-PUBLISHED-TTL:PT1H
BEGIN:VTIMEZONE
TZID:America/New_York
BEGIN:DAYLIGHT
TZOFFSETFROM:-0500
TZOFFSETTO:-0400
TZNAME:EDT
DTSTART:20240310T070000
END:DAYLIGHT
BEGIN:STANDARD
TZOFFSETFROM:-0400
TZOFFSETTO:-0500
TZNAME:EST
DTSTART:20241103T060000
END:STANDARD
BEGIN:DAYLIGHT
TZOFFSETFROM:-0500
TZOFFSETTO:-0400
TZNAME:EDT
DTSTART:20250309T070000
END:DAYLIGHT
BEGIN:STANDARD
TZOFFSETFROM:-0400
TZOFFSETTO:-0500
TZNAME:EST
DTSTART:20251102T060000
END:STANDARD
BEGIN:DAYLIGHT
TZOFFSETFROM:-0500
TZOFFSETTO:-0400
TZNAME:EDT
DTSTART:20260308T070000
END:DAYLIGHT
BEGIN:STANDARD
TZOFFSETFROM:-0400
TZOFFSETTO:-0500
TZNAME:EST
DTSTART:20261101T060000
END:STANDARD
END:VTIMEZONE
BEGIN:VEVENT
DTSTART;VALUE=DATE:20250624
DTEND;VALUE=DATE:20250625
DTSTAMP:20260424T211019
CREATED:20250522T015714Z
LAST-MODIFIED:20250522T024826Z
UID:2074-1750723200-1750809599@pauldingcountydemocrats.org
SUMMARY:Paulding Board of Commissioners
DESCRIPTION:The Paulding County Board of Commissioners meets on the second and fourth Tuesday of each month. \nThese meetings are open to the public and provide an important opportunity to observe local government in action. \nWhether you’re a concerned citizen\, local advocate\, or simply curious about how decisions are made in Paulding County\, your presence matters. \nWork Session: 10:00 AM \nBoard Meeting: 2:00 PM
URL:https://pauldingcountydemocrats.org/event/paulding-board-of-commissioners-june-24-2025/
LOCATION:Watson Government Complex\, 240 Constitution Blvd\, Dallas\, GA\, 30132\, United States
CATEGORIES:Board of Commissioners
END:VEVENT
BEGIN:VEVENT
DTSTART;TZID=America/New_York:20250624T180000
DTEND;TZID=America/New_York:20250624T200000
DTSTAMP:20260424T211019
CREATED:20250623T013128Z
LAST-MODIFIED:20250624T173357Z
UID:2444-1750788000-1750795200@pauldingcountydemocrats.org
SUMMARY:GA House Democratic Caucus Town Hall
DESCRIPTION:The Georgia House Democratic Caucus (GHDC) is hitting the road with a Town Hall Tour — and their next stop is right here in Paulding County! \n🗓 When: Monday\, June 24th at 6:00 PM📍 Where: Hiram Rosenwald School Museum \nGeorgia families face real challenges today – from healthcare access and hospital closures to the rising costs of everyday necessities. Join the town hall to share your experiences and hear about the Georgia Democrats’ Opportunity Agenda with practical solutions to expand healthcare coverage\, strengthen community hospitals\, and address affordability issues. Come learn about what Georgia Democrats are doing under the Gold Dome and ways that you can make your voice heard. \n🚨 Fair warning: Seating is limited\, and RSVP does not guarantee entry. We strongly recommend arriving early to secure your spot!
URL:https://pauldingcountydemocrats.org/event/june-2025-ga-house-democratic-caucus-town-hall/
LOCATION:The Hiram Rosenwald School Museum\, 732 Hiram Douglasville Highway\, Hiram\, GA\, 30141\, United States
CATEGORIES:Community
ATTACH;FMTTYPE=image/jpeg:https://pauldingcountydemocrats.org/wp-content/uploads/2025/06/GDHCTownHall-1.jpg
END:VEVENT
END:VCALENDAR