BEGIN:VCALENDAR
VERSION:2.0
PRODID:-//Paulding County Democrats - ECPv6.15.20//NONSGML v1.0//EN
CALSCALE:GREGORIAN
METHOD:PUBLISH
X-WR-CALNAME:Paulding County Democrats
X-ORIGINAL-URL:https://pauldingcountydemocrats.org
X-WR-CALDESC:Events for Paulding County Democrats
REFRESH-INTERVAL;VALUE=DURATION:PT1H
X-Robots-Tag:noindex
X-PUBLISHED-TTL:PT1H
BEGIN:VTIMEZONE
TZID:America/New_York
BEGIN:DAYLIGHT
TZOFFSETFROM:-0500
TZOFFSETTO:-0400
TZNAME:EDT
DTSTART:20240310T070000
END:DAYLIGHT
BEGIN:STANDARD
TZOFFSETFROM:-0400
TZOFFSETTO:-0500
TZNAME:EST
DTSTART:20241103T060000
END:STANDARD
BEGIN:DAYLIGHT
TZOFFSETFROM:-0500
TZOFFSETTO:-0400
TZNAME:EDT
DTSTART:20250309T070000
END:DAYLIGHT
BEGIN:STANDARD
TZOFFSETFROM:-0400
TZOFFSETTO:-0500
TZNAME:EST
DTSTART:20251102T060000
END:STANDARD
BEGIN:DAYLIGHT
TZOFFSETFROM:-0500
TZOFFSETTO:-0400
TZNAME:EDT
DTSTART:20260308T070000
END:DAYLIGHT
BEGIN:STANDARD
TZOFFSETFROM:-0400
TZOFFSETTO:-0500
TZNAME:EST
DTSTART:20261101T060000
END:STANDARD
END:VTIMEZONE
BEGIN:VEVENT
DTSTART;TZID=America/New_York:20250718T190000
DTEND;TZID=America/New_York:20250718T210000
DTSTAMP:20260424T195507
CREATED:20250707T043914Z
LAST-MODIFIED:20250707T043914Z
UID:2460-1752865200-1752872400@pauldingcountydemocrats.org
SUMMARY:Banned Book Club — On Tyranny
DESCRIPTION:RSVP on Mobilize: https://mobilize.us/s/wHL7Qf \nJoin the Paulding County Democrats for the monthly meeting of our Banned Book Club. We have expanded the definition of our club to include political books. Let’s explore the stories challenged and understand the importance of freedom of expression. \nOur July book selection will be “On Tyranny: Twenty Lessons from the Twentieth Century” by Timothy Snyder. A New York Times #1 Bestseller\, “On Tyranny” is a call to arms and a guide to resistance\, with invaluable ideas for how we can preserve our freedoms in the uncertain years to come. \nPlease purchase and read the book ahead of the book club meeting. \nCoffee and soft drinks will be provided. Please bring a snack to share. \nLet’s stand together for the freedom to read and share ideas!
URL:https://pauldingcountydemocrats.org/event/banned-book-club-on-tyranny-july-2025/
CATEGORIES:Book Club
ATTACH;FMTTYPE=image/png:https://pauldingcountydemocrats.org/wp-content/uploads/2025/07/Banned-Book-Club-July-2025.png
END:VEVENT
END:VCALENDAR