BEGIN:VCALENDAR
VERSION:2.0
PRODID:-//Paulding County Democrats - ECPv6.15.20//NONSGML v1.0//EN
CALSCALE:GREGORIAN
METHOD:PUBLISH
X-ORIGINAL-URL:https://pauldingcountydemocrats.org
X-WR-CALDESC:Events for Paulding County Democrats
REFRESH-INTERVAL;VALUE=DURATION:PT1H
X-Robots-Tag:noindex
X-PUBLISHED-TTL:PT1H
BEGIN:VTIMEZONE
TZID:America/New_York
BEGIN:DAYLIGHT
TZOFFSETFROM:-0500
TZOFFSETTO:-0400
TZNAME:EDT
DTSTART:20240310T070000
END:DAYLIGHT
BEGIN:STANDARD
TZOFFSETFROM:-0400
TZOFFSETTO:-0500
TZNAME:EST
DTSTART:20241103T060000
END:STANDARD
BEGIN:DAYLIGHT
TZOFFSETFROM:-0500
TZOFFSETTO:-0400
TZNAME:EDT
DTSTART:20250309T070000
END:DAYLIGHT
BEGIN:STANDARD
TZOFFSETFROM:-0400
TZOFFSETTO:-0500
TZNAME:EST
DTSTART:20251102T060000
END:STANDARD
BEGIN:DAYLIGHT
TZOFFSETFROM:-0500
TZOFFSETTO:-0400
TZNAME:EDT
DTSTART:20260308T070000
END:DAYLIGHT
BEGIN:STANDARD
TZOFFSETFROM:-0400
TZOFFSETTO:-0500
TZNAME:EST
DTSTART:20261101T060000
END:STANDARD
END:VTIMEZONE
BEGIN:VEVENT
DTSTART;TZID=America/New_York:20250729T190000
DTEND;TZID=America/New_York:20250729T210000
DTSTAMP:20260424T183215
CREATED:20250707T051838Z
LAST-MODIFIED:20250707T051929Z
UID:2476-1753815600-1753822800@pauldingcountydemocrats.org
SUMMARY:Dining With Dems
DESCRIPTION:RSVP On Mobilize: https://mobilize.us/s/2CaCON \nJoin us for some good old-fashioned Pizza and Politics! 🍕🍕🍕 \nMeet like-minded folks from across the county while you scarf down a slice and debrief from the chaotic state of the world.
URL:https://pauldingcountydemocrats.org/event/dining-with-dems-july-2025/
LOCATION:Peace Love and Pizza\, 2537 Cedarcrest Rd Suite 301\, Acworth\, GA\, 30101\, United States
CATEGORIES:Community
ATTACH;FMTTYPE=image/png:https://pauldingcountydemocrats.org/wp-content/uploads/2025/07/DWD-July-2025.png
END:VEVENT
END:VCALENDAR