BEGIN:VCALENDAR
VERSION:2.0
PRODID:-//Paulding County Democrats - ECPv6.15.20//NONSGML v1.0//EN
CALSCALE:GREGORIAN
METHOD:PUBLISH
X-ORIGINAL-URL:https://pauldingcountydemocrats.org
X-WR-CALDESC:Events for Paulding County Democrats
REFRESH-INTERVAL;VALUE=DURATION:PT1H
X-Robots-Tag:noindex
X-PUBLISHED-TTL:PT1H
BEGIN:VTIMEZONE
TZID:America/New_York
BEGIN:DAYLIGHT
TZOFFSETFROM:-0500
TZOFFSETTO:-0400
TZNAME:EDT
DTSTART:20240310T070000
END:DAYLIGHT
BEGIN:STANDARD
TZOFFSETFROM:-0400
TZOFFSETTO:-0500
TZNAME:EST
DTSTART:20241103T060000
END:STANDARD
BEGIN:DAYLIGHT
TZOFFSETFROM:-0500
TZOFFSETTO:-0400
TZNAME:EDT
DTSTART:20250309T070000
END:DAYLIGHT
BEGIN:STANDARD
TZOFFSETFROM:-0400
TZOFFSETTO:-0500
TZNAME:EST
DTSTART:20251102T060000
END:STANDARD
BEGIN:DAYLIGHT
TZOFFSETFROM:-0500
TZOFFSETTO:-0400
TZNAME:EDT
DTSTART:20260308T070000
END:DAYLIGHT
BEGIN:STANDARD
TZOFFSETFROM:-0400
TZOFFSETTO:-0500
TZNAME:EST
DTSTART:20261101T060000
END:STANDARD
END:VTIMEZONE
BEGIN:VEVENT
DTSTART;VALUE=DATE:20250826
DTEND;VALUE=DATE:20250827
DTSTAMP:20260424T182417
CREATED:20250522T025759Z
LAST-MODIFIED:20250522T025759Z
UID:2093-1756166400-1756252799@pauldingcountydemocrats.org
SUMMARY:Paulding Board of Commissioners
DESCRIPTION:The Paulding County Board of Commissioners meets on the second and fourth Tuesday of each month. \nThese meetings are open to the public and provide an important opportunity to observe local government in action. \nWhether you’re a concerned citizen\, local advocate\, or simply curious about how decisions are made in Paulding County\, your presence matters. \nWork Session: 10:00 AM \nBoard Meeting: 2:00 PM
URL:https://pauldingcountydemocrats.org/event/paulding-board-of-commissioners-august-26-2025/
LOCATION:Watson Government Complex\, 240 Constitution Blvd\, Dallas\, GA\, 30132\, United States
CATEGORIES:Board of Commissioners
END:VEVENT
END:VCALENDAR