BEGIN:VCALENDAR
VERSION:2.0
PRODID:-//Paulding County Democrats - ECPv6.15.20//NONSGML v1.0//EN
CALSCALE:GREGORIAN
METHOD:PUBLISH
X-WR-CALNAME:Paulding County Democrats
X-ORIGINAL-URL:https://pauldingcountydemocrats.org
X-WR-CALDESC:Events for Paulding County Democrats
REFRESH-INTERVAL;VALUE=DURATION:PT1H
X-Robots-Tag:noindex
X-PUBLISHED-TTL:PT1H
BEGIN:VTIMEZONE
TZID:America/New_York
BEGIN:DAYLIGHT
TZOFFSETFROM:-0500
TZOFFSETTO:-0400
TZNAME:EDT
DTSTART:20240310T070000
END:DAYLIGHT
BEGIN:STANDARD
TZOFFSETFROM:-0400
TZOFFSETTO:-0500
TZNAME:EST
DTSTART:20241103T060000
END:STANDARD
BEGIN:DAYLIGHT
TZOFFSETFROM:-0500
TZOFFSETTO:-0400
TZNAME:EDT
DTSTART:20250309T070000
END:DAYLIGHT
BEGIN:STANDARD
TZOFFSETFROM:-0400
TZOFFSETTO:-0500
TZNAME:EST
DTSTART:20251102T060000
END:STANDARD
BEGIN:DAYLIGHT
TZOFFSETFROM:-0500
TZOFFSETTO:-0400
TZNAME:EDT
DTSTART:20260308T070000
END:DAYLIGHT
BEGIN:STANDARD
TZOFFSETFROM:-0400
TZOFFSETTO:-0500
TZNAME:EST
DTSTART:20261101T060000
END:STANDARD
END:VTIMEZONE
BEGIN:VEVENT
DTSTART;TZID=America/New_York:20250903T190000
DTEND;TZID=America/New_York:20250903T220000
DTSTAMP:20260424T164704
CREATED:20250829T045249Z
LAST-MODIFIED:20250829T050004Z
UID:2533-1756926000-1756936800@pauldingcountydemocrats.org
SUMMARY:Dining With Dems at the Polk County Fair
DESCRIPTION:For our September Dining with Dems\, we’ll be venturing west to the Polk County Fair! Enjoy the food vendors at the fair — funnel cakes\, anyone? — plus the carnival rides and the lamb and goat show. Meet up starting at 7 p.m. at the Polk Democrats booth inside the exhibit hall. \nFair admission is $5\, ride armbands are $25. The fair is open until 10 p.m. \nRSVP on Mobilize: https://mobilize.us/s/KWvgGm
URL:https://pauldingcountydemocrats.org/event/dining-with-dems-september-2025/
LOCATION:Polk County Fairgrounds\, 1604 Fairgrounds Rd\, Cedartown\, GA\, 30125\, United States
CATEGORIES:Community
END:VEVENT
END:VCALENDAR