BEGIN:VCALENDAR
VERSION:2.0
PRODID:-//Paulding County Democrats - ECPv6.15.20//NONSGML v1.0//EN
CALSCALE:GREGORIAN
METHOD:PUBLISH
X-ORIGINAL-URL:https://pauldingcountydemocrats.org
X-WR-CALDESC:Events for Paulding County Democrats
REFRESH-INTERVAL;VALUE=DURATION:PT1H
X-Robots-Tag:noindex
X-PUBLISHED-TTL:PT1H
BEGIN:VTIMEZONE
TZID:America/New_York
BEGIN:DAYLIGHT
TZOFFSETFROM:-0500
TZOFFSETTO:-0400
TZNAME:EDT
DTSTART:20240310T070000
END:DAYLIGHT
BEGIN:STANDARD
TZOFFSETFROM:-0400
TZOFFSETTO:-0500
TZNAME:EST
DTSTART:20241103T060000
END:STANDARD
BEGIN:DAYLIGHT
TZOFFSETFROM:-0500
TZOFFSETTO:-0400
TZNAME:EDT
DTSTART:20250309T070000
END:DAYLIGHT
BEGIN:STANDARD
TZOFFSETFROM:-0400
TZOFFSETTO:-0500
TZNAME:EST
DTSTART:20251102T060000
END:STANDARD
BEGIN:DAYLIGHT
TZOFFSETFROM:-0500
TZOFFSETTO:-0400
TZNAME:EDT
DTSTART:20260308T070000
END:DAYLIGHT
BEGIN:STANDARD
TZOFFSETFROM:-0400
TZOFFSETTO:-0500
TZNAME:EST
DTSTART:20261101T060000
END:STANDARD
END:VTIMEZONE
BEGIN:VEVENT
DTSTART;TZID=America/New_York:20250906T100000
DTEND;TZID=America/New_York:20250906T150000
DTSTAMP:20260424T164700
CREATED:20250829T051039Z
LAST-MODIFIED:20250829T051040Z
UID:2536-1757152800-1757170800@pauldingcountydemocrats.org
SUMMARY:Community Outreach at Paulding Meadows Arts & Crafts Festival
DESCRIPTION:Join the Paulding Democrats as we meet our neighbors and talk about this year’s elections\, especially for the Public Service Commission. We will circulate at the Paulding Meadows Arts and Crafts Festival\, the largest event in Paulding County. Meet at the amphitheatre where the bands are playing. You’ll go out in pairs or small groups to chat with folks and hand out flyers. Wear your favorite Democratic t-shirt and comfortable walking shoes. Bring a water bottle and sunscreen. Admission to the festival is $5 per person. Paulding Democrats will reimburse your admission at the end of your shift. Come early or stay late to browse all the vendors. Traffic is usually congested getting into the festival — allow yourself plenty of time.
URL:https://pauldingcountydemocrats.org/event/paulding-meadows-2025-saturday/
CATEGORIES:Canvassing,Community
END:VEVENT
END:VCALENDAR