BEGIN:VCALENDAR
VERSION:2.0
PRODID:-//Paulding County Democrats - ECPv6.15.20//NONSGML v1.0//EN
CALSCALE:GREGORIAN
METHOD:PUBLISH
X-WR-CALNAME:Paulding County Democrats
X-ORIGINAL-URL:https://pauldingcountydemocrats.org
X-WR-CALDESC:Events for Paulding County Democrats
REFRESH-INTERVAL;VALUE=DURATION:PT1H
X-Robots-Tag:noindex
X-PUBLISHED-TTL:PT1H
BEGIN:VTIMEZONE
TZID:America/New_York
BEGIN:DAYLIGHT
TZOFFSETFROM:-0500
TZOFFSETTO:-0400
TZNAME:EDT
DTSTART:20240310T070000
END:DAYLIGHT
BEGIN:STANDARD
TZOFFSETFROM:-0400
TZOFFSETTO:-0500
TZNAME:EST
DTSTART:20241103T060000
END:STANDARD
BEGIN:DAYLIGHT
TZOFFSETFROM:-0500
TZOFFSETTO:-0400
TZNAME:EDT
DTSTART:20250309T070000
END:DAYLIGHT
BEGIN:STANDARD
TZOFFSETFROM:-0400
TZOFFSETTO:-0500
TZNAME:EST
DTSTART:20251102T060000
END:STANDARD
BEGIN:DAYLIGHT
TZOFFSETFROM:-0500
TZOFFSETTO:-0400
TZNAME:EDT
DTSTART:20260308T070000
END:DAYLIGHT
BEGIN:STANDARD
TZOFFSETFROM:-0400
TZOFFSETTO:-0500
TZNAME:EST
DTSTART:20261101T060000
END:STANDARD
END:VTIMEZONE
BEGIN:VEVENT
DTSTART;TZID=America/New_York:20251001T193000
DTEND;TZID=America/New_York:20251001T203000
DTSTAMP:20260424T152709
CREATED:20250920T044209Z
LAST-MODIFIED:20250920T044242Z
UID:2584-1759347000-1759350600@pauldingcountydemocrats.org
SUMMARY:Dining With Dems
DESCRIPTION:Join your like-minded neighbors for a casual social gathering over dinner. Talk about the issues that matter most to you or just get to know some new friends. If you’re already an active Paulding Democrat\, can you bring a guest with you? Our party is growing — we don’t want to hear “I didn’t know there were Democrats in Paulding County” ever again!
URL:https://pauldingcountydemocrats.org/event/october-2025-dining-with-dems/
LOCATION:Gyro City Grill\, 4109 Jimmy Lee Smith Pkwy\, Hiram\, GA\, 30141\, United States
CATEGORIES:Community
END:VEVENT
END:VCALENDAR