BEGIN:VCALENDAR
VERSION:2.0
PRODID:-//Paulding County Democrats - ECPv6.15.20//NONSGML v1.0//EN
CALSCALE:GREGORIAN
METHOD:PUBLISH
X-ORIGINAL-URL:https://pauldingcountydemocrats.org
X-WR-CALDESC:Events for Paulding County Democrats
REFRESH-INTERVAL;VALUE=DURATION:PT1H
X-Robots-Tag:noindex
X-PUBLISHED-TTL:PT1H
BEGIN:VTIMEZONE
TZID:America/New_York
BEGIN:DAYLIGHT
TZOFFSETFROM:-0500
TZOFFSETTO:-0400
TZNAME:EDT
DTSTART:20240310T070000
END:DAYLIGHT
BEGIN:STANDARD
TZOFFSETFROM:-0400
TZOFFSETTO:-0500
TZNAME:EST
DTSTART:20241103T060000
END:STANDARD
BEGIN:DAYLIGHT
TZOFFSETFROM:-0500
TZOFFSETTO:-0400
TZNAME:EDT
DTSTART:20250309T070000
END:DAYLIGHT
BEGIN:STANDARD
TZOFFSETFROM:-0400
TZOFFSETTO:-0500
TZNAME:EST
DTSTART:20251102T060000
END:STANDARD
BEGIN:DAYLIGHT
TZOFFSETFROM:-0500
TZOFFSETTO:-0400
TZNAME:EDT
DTSTART:20260308T070000
END:DAYLIGHT
BEGIN:STANDARD
TZOFFSETFROM:-0400
TZOFFSETTO:-0500
TZNAME:EST
DTSTART:20261101T060000
END:STANDARD
END:VTIMEZONE
BEGIN:VEVENT
DTSTART;TZID=America/New_York:20251024T150000
DTEND;TZID=America/New_York:20251024T170000
DTSTAMP:20260424T152721
CREATED:20251022T233649Z
LAST-MODIFIED:20251022T233649Z
UID:2614-1761318000-1761325200@pauldingcountydemocrats.org
SUMMARY:Trick or Treat Village
DESCRIPTION:Join the Paulding Democrats at our booth at Trick or Treat Village\, one of Paulding’s largest Halloween events. Help hand out candy to the kids\, chat about the upcoming election with the grown-ups\, and distribute flyers. Volunteers are strongly encouraged to be in costume. Our booth #17 will be blue and spooky! Please allow extra time to get into the parking lot and make your way to our booth. \nWe will start decorating the booth on Friday afternoon. On Saturday\, the 11:45 a.m. shift will include finishing setting up the booth. You MUST arrive before 12 NOON when they close the gates to vendors. Lunch will be provided. The 5 p.m. shift will include breakdown and loadout. Actual event time is 2-7 p.m.
URL:https://pauldingcountydemocrats.org/event/trick-or-treat-village-p1-2025/
CATEGORIES:Community
END:VEVENT
END:VCALENDAR