BEGIN:VCALENDAR
VERSION:2.0
PRODID:-//Paulding County Democrats - ECPv6.15.20//NONSGML v1.0//EN
CALSCALE:GREGORIAN
METHOD:PUBLISH
X-ORIGINAL-URL:https://pauldingcountydemocrats.org
X-WR-CALDESC:Events for Paulding County Democrats
REFRESH-INTERVAL;VALUE=DURATION:PT1H
X-Robots-Tag:noindex
X-PUBLISHED-TTL:PT1H
BEGIN:VTIMEZONE
TZID:America/New_York
BEGIN:DAYLIGHT
TZOFFSETFROM:-0500
TZOFFSETTO:-0400
TZNAME:EDT
DTSTART:20250309T070000
END:DAYLIGHT
BEGIN:STANDARD
TZOFFSETFROM:-0400
TZOFFSETTO:-0500
TZNAME:EST
DTSTART:20251102T060000
END:STANDARD
BEGIN:DAYLIGHT
TZOFFSETFROM:-0500
TZOFFSETTO:-0400
TZNAME:EDT
DTSTART:20260308T070000
END:DAYLIGHT
BEGIN:STANDARD
TZOFFSETFROM:-0400
TZOFFSETTO:-0500
TZNAME:EST
DTSTART:20261101T060000
END:STANDARD
BEGIN:DAYLIGHT
TZOFFSETFROM:-0500
TZOFFSETTO:-0400
TZNAME:EDT
DTSTART:20270314T070000
END:DAYLIGHT
BEGIN:STANDARD
TZOFFSETFROM:-0400
TZOFFSETTO:-0500
TZNAME:EST
DTSTART:20271107T060000
END:STANDARD
END:VTIMEZONE
BEGIN:VEVENT
DTSTART;TZID=America/New_York:20260110T140000
DTEND;TZID=America/New_York:20260110T160000
DTSTAMP:20260424T114247
CREATED:20260103T000234Z
LAST-MODIFIED:20260103T000401Z
UID:2647-1768053600-1768060800@pauldingcountydemocrats.org
SUMMARY:Business Meeting
DESCRIPTION:Register on Mobilize: https://mobilize.us/s/hb8Ebt\nThe Paulding County Democratic Committee invites all members\, supporters\, and community allies to kick off 2026 with our January Business Meeting! We will hear from candidates up and down the ballot in 2026\, learn about what’s to come during the legislative session\, and discuss how we can reach our organizing goals to WIN this year. \nThis is your chance to get involved\, stay informed\, and help shape the future of our county\, state\, and country!
URL:https://pauldingcountydemocrats.org/event/january-2026-business-meeting/
LOCATION:Dallas Public Library\, 1010 E Memorial Dr\, Dallas\, GA\, 30132
CATEGORIES:Business Meeting
ATTACH;FMTTYPE=image/png:https://pauldingcountydemocrats.org/wp-content/uploads/2025/07/Website-Placeholder.png
END:VEVENT
END:VCALENDAR