BEGIN:VCALENDAR
VERSION:2.0
PRODID:-//Paulding County Democrats - ECPv6.15.20//NONSGML v1.0//EN
CALSCALE:GREGORIAN
METHOD:PUBLISH
X-ORIGINAL-URL:https://pauldingcountydemocrats.org
X-WR-CALDESC:Events for Paulding County Democrats
REFRESH-INTERVAL;VALUE=DURATION:PT1H
X-Robots-Tag:noindex
X-PUBLISHED-TTL:PT1H
BEGIN:VTIMEZONE
TZID:America/New_York
BEGIN:DAYLIGHT
TZOFFSETFROM:-0500
TZOFFSETTO:-0400
TZNAME:EDT
DTSTART:20250309T070000
END:DAYLIGHT
BEGIN:STANDARD
TZOFFSETFROM:-0400
TZOFFSETTO:-0500
TZNAME:EST
DTSTART:20251102T060000
END:STANDARD
BEGIN:DAYLIGHT
TZOFFSETFROM:-0500
TZOFFSETTO:-0400
TZNAME:EDT
DTSTART:20260308T070000
END:DAYLIGHT
BEGIN:STANDARD
TZOFFSETFROM:-0400
TZOFFSETTO:-0500
TZNAME:EST
DTSTART:20261101T060000
END:STANDARD
BEGIN:DAYLIGHT
TZOFFSETFROM:-0500
TZOFFSETTO:-0400
TZNAME:EDT
DTSTART:20270314T070000
END:DAYLIGHT
BEGIN:STANDARD
TZOFFSETFROM:-0400
TZOFFSETTO:-0500
TZNAME:EST
DTSTART:20271107T060000
END:STANDARD
END:VTIMEZONE
BEGIN:VEVENT
DTSTART;TZID=America/New_York:20260204T190000
DTEND;TZID=America/New_York:20260204T210000
DTSTAMP:20260424T101510
CREATED:20260201T195345Z
LAST-MODIFIED:20260201T195346Z
UID:2681-1770231600-1770238800@pauldingcountydemocrats.org
SUMMARY:Dining With Dems @ Peace\, Love and Pizza
DESCRIPTION:Register to attend on Mobilize: https://mobilize.us/s/pZW1R6 \nJoin your like-minded neighbors for a casual social gathering over dinner. Talk about the issues that matter most to you or just get to know some new friends. If you’re already an active Paulding Democrat\, can you bring a guest with you? Our party is growing — we don’t want to hear “I didn’t know there were Democrats in Paulding County” ever again! (Everyone orders off the menu and buys their own meal.)
URL:https://pauldingcountydemocrats.org/event/dining-with-dems-peace-love-and-pizza/
LOCATION:Peace Love and Pizza\, 2537 Cedarcrest Rd Suite 301\, Acworth\, GA\, 30101\, United States
CATEGORIES:Community
END:VEVENT
END:VCALENDAR