BEGIN:VCALENDAR
VERSION:2.0
PRODID:-//Paulding County Democrats - ECPv6.15.20//NONSGML v1.0//EN
CALSCALE:GREGORIAN
METHOD:PUBLISH
X-WR-CALNAME:Paulding County Democrats
X-ORIGINAL-URL:https://pauldingcountydemocrats.org
X-WR-CALDESC:Events for Paulding County Democrats
REFRESH-INTERVAL;VALUE=DURATION:PT1H
X-Robots-Tag:noindex
X-PUBLISHED-TTL:PT1H
BEGIN:VTIMEZONE
TZID:America/New_York
BEGIN:DAYLIGHT
TZOFFSETFROM:-0500
TZOFFSETTO:-0400
TZNAME:EDT
DTSTART:20250309T070000
END:DAYLIGHT
BEGIN:STANDARD
TZOFFSETFROM:-0400
TZOFFSETTO:-0500
TZNAME:EST
DTSTART:20251102T060000
END:STANDARD
BEGIN:DAYLIGHT
TZOFFSETFROM:-0500
TZOFFSETTO:-0400
TZNAME:EDT
DTSTART:20260308T070000
END:DAYLIGHT
BEGIN:STANDARD
TZOFFSETFROM:-0400
TZOFFSETTO:-0500
TZNAME:EST
DTSTART:20261101T060000
END:STANDARD
BEGIN:DAYLIGHT
TZOFFSETFROM:-0500
TZOFFSETTO:-0400
TZNAME:EDT
DTSTART:20270314T070000
END:DAYLIGHT
BEGIN:STANDARD
TZOFFSETFROM:-0400
TZOFFSETTO:-0500
TZNAME:EST
DTSTART:20271107T060000
END:STANDARD
END:VTIMEZONE
BEGIN:VEVENT
DTSTART;TZID=America/New_York:20260210T190000
DTEND;TZID=America/New_York:20260210T193000
DTSTAMP:20260424T100724
CREATED:20260208T054506Z
LAST-MODIFIED:20260208T054549Z
UID:2683-1770750000-1770751800@pauldingcountydemocrats.org
SUMMARY:Candidate Information Session
DESCRIPTION:Interested in serving your community by running for office? We’d love to hear from you! \nJoin us for a virtual Candidate Information Discussion/Q&A on Tuesday\, February 10th. \nWe want to have the strongest Democrats running for every seat that’s on the ballot in 2026. Paulding is a true swing county—we flipped it blue last year! \nHelp us give voters a choice in every single race. \n***To prepare\, please fill out this form: https://forms.gle/8tQvAhVyFv5H6X8V9
URL:https://pauldingcountydemocrats.org/event/february-2026-candidate-information-session/
CATEGORIES:Run For Office
END:VEVENT
END:VCALENDAR