BEGIN:VCALENDAR
VERSION:2.0
PRODID:-//Paulding County Democrats - ECPv6.15.20//NONSGML v1.0//EN
CALSCALE:GREGORIAN
METHOD:PUBLISH
X-ORIGINAL-URL:https://pauldingcountydemocrats.org
X-WR-CALDESC:Events for Paulding County Democrats
REFRESH-INTERVAL;VALUE=DURATION:PT1H
X-Robots-Tag:noindex
X-PUBLISHED-TTL:PT1H
BEGIN:VTIMEZONE
TZID:America/New_York
BEGIN:DAYLIGHT
TZOFFSETFROM:-0500
TZOFFSETTO:-0400
TZNAME:EDT
DTSTART:20250309T070000
END:DAYLIGHT
BEGIN:STANDARD
TZOFFSETFROM:-0400
TZOFFSETTO:-0500
TZNAME:EST
DTSTART:20251102T060000
END:STANDARD
BEGIN:DAYLIGHT
TZOFFSETFROM:-0500
TZOFFSETTO:-0400
TZNAME:EDT
DTSTART:20260308T070000
END:DAYLIGHT
BEGIN:STANDARD
TZOFFSETFROM:-0400
TZOFFSETTO:-0500
TZNAME:EST
DTSTART:20261101T060000
END:STANDARD
BEGIN:DAYLIGHT
TZOFFSETFROM:-0500
TZOFFSETTO:-0400
TZNAME:EDT
DTSTART:20270314T070000
END:DAYLIGHT
BEGIN:STANDARD
TZOFFSETFROM:-0400
TZOFFSETTO:-0500
TZNAME:EST
DTSTART:20271107T060000
END:STANDARD
END:VTIMEZONE
BEGIN:VEVENT
DTSTART;TZID=America/New_York:20260213T180000
DTEND;TZID=America/New_York:20260213T200000
DTSTAMP:20260424T100954
CREATED:20260208T055613Z
LAST-MODIFIED:20260208T055707Z
UID:2687-1771005600-1771012800@pauldingcountydemocrats.org
SUMMARY:Galentine's Night Out
DESCRIPTION:The special election for U.S. House will be March 10\, with early voting starting February 16. Let’s send Shawn Harris to be our representative in Washington\, DC. Leadership Matters! \nJoin the Paulding County Democrats as we attend Galentine’s in downtown Dallas to hand out flyers and remind people about the special election. Meet in front of the Dallas Theatre on Main Street. \nWear comfortable shoes and dress for the weather. Wear a Shawn Harris or Paulding Democrats t-shirt\, or solid blue. Please\, no other messages on your clothing. \nALL CAMPAIGN VOLUNTEERS\, please complete the volunteer form on the campaign website\, www.shawnforgeorgia.com. You only need to fill out this form one time.
URL:https://pauldingcountydemocrats.org/event/february-2026-galentines-night-out/
CATEGORIES:Community
END:VEVENT
END:VCALENDAR