BEGIN:VCALENDAR
VERSION:2.0
PRODID:-//Paulding County Democrats - ECPv6.15.20//NONSGML v1.0//EN
CALSCALE:GREGORIAN
METHOD:PUBLISH
X-ORIGINAL-URL:https://pauldingcountydemocrats.org
X-WR-CALDESC:Events for Paulding County Democrats
REFRESH-INTERVAL;VALUE=DURATION:PT1H
X-Robots-Tag:noindex
X-PUBLISHED-TTL:PT1H
BEGIN:VTIMEZONE
TZID:America/New_York
BEGIN:DAYLIGHT
TZOFFSETFROM:-0500
TZOFFSETTO:-0400
TZNAME:EDT
DTSTART:20250309T070000
END:DAYLIGHT
BEGIN:STANDARD
TZOFFSETFROM:-0400
TZOFFSETTO:-0500
TZNAME:EST
DTSTART:20251102T060000
END:STANDARD
BEGIN:DAYLIGHT
TZOFFSETFROM:-0500
TZOFFSETTO:-0400
TZNAME:EDT
DTSTART:20260308T070000
END:DAYLIGHT
BEGIN:STANDARD
TZOFFSETFROM:-0400
TZOFFSETTO:-0500
TZNAME:EST
DTSTART:20261101T060000
END:STANDARD
BEGIN:DAYLIGHT
TZOFFSETFROM:-0500
TZOFFSETTO:-0400
TZNAME:EDT
DTSTART:20270314T070000
END:DAYLIGHT
BEGIN:STANDARD
TZOFFSETFROM:-0400
TZOFFSETTO:-0500
TZNAME:EST
DTSTART:20271107T060000
END:STANDARD
END:VTIMEZONE
BEGIN:VEVENT
DTSTART;TZID=America/New_York:20260320T190000
DTEND;TZID=America/New_York:20260320T210000
DTSTAMP:20260424T090514
CREATED:20260308T052645Z
LAST-MODIFIED:20260317T125838Z
UID:2741-1774033200-1774040400@pauldingcountydemocrats.org
SUMMARY:Banned Book Club
DESCRIPTION:Join the Paulding County Democrats for the monthly meeting of our Banned Book Club. We have expanded the definition of our club to include political books. Let’s explore the stories challenged and understand the importance of freedom of expression.  Sign up here:  https://www.mobilize.us/mobilize/event/911831/. \nIn March\, we are reading “Giving Up Is Unforgivable\,” by Joyce Vance. \n“We’re in this together.” \nFor the past several years\, Joyce Vance has signed off posts on her chart-topping Substack\, “Civil Discourse”\, with these four words. In that time\, she has guided readers through a continued erosion of democratic norms\, the unprecedented felony conviction of an ex-president\, and the constitutionally calamitous beginning to the second Trump administration. Here\, Vance offers a blueprint for avoiding burnout and despair\, and for strengthening our democratic muscle. \n“Giving Up Is Unforgivable” is a clarion call to action\, putting our current crisis in historical context and sketching out a vision for where we go next. Vance’s message is hopeful at its heart\, even as it acknowledges the daunting challenges that lie ahead. She is the constitutional law professor you never knew you needed\, explaining the legal context and the political history— and why the rule of the law still matters. At the same time\, she empowers the reader to do something\, both as individuals and collectively. \nConsider this the birth of a countermovement to Project 2025\, a rallying cry for citizen engagement to combat the second Trump administration and save American democracy. \nPlease purchase and read the book ahead of time. \nCoffee and soft drinks will be provided. Please bring a snack to share. \nThe meeting is at a private residence off Dabbs Bridge Road in Dallas. The address will be provided upon registration. \nLet’s stand together for the freedom to read and share ideas!
URL:https://pauldingcountydemocrats.org/event/banned-book-club/
CATEGORIES:Book Club
ATTACH;FMTTYPE=image/png:https://pauldingcountydemocrats.org/wp-content/uploads/2026/03/GQslide2.png
END:VEVENT
END:VCALENDAR