BEGIN:VCALENDAR
VERSION:2.0
PRODID:-//Paulding County Democrats - ECPv6.15.20//NONSGML v1.0//EN
CALSCALE:GREGORIAN
METHOD:PUBLISH
X-ORIGINAL-URL:https://pauldingcountydemocrats.org
X-WR-CALDESC:Events for Paulding County Democrats
REFRESH-INTERVAL;VALUE=DURATION:PT1H
X-Robots-Tag:noindex
X-PUBLISHED-TTL:PT1H
BEGIN:VTIMEZONE
TZID:America/New_York
BEGIN:DAYLIGHT
TZOFFSETFROM:-0500
TZOFFSETTO:-0400
TZNAME:EDT
DTSTART:20250309T070000
END:DAYLIGHT
BEGIN:STANDARD
TZOFFSETFROM:-0400
TZOFFSETTO:-0500
TZNAME:EST
DTSTART:20251102T060000
END:STANDARD
BEGIN:DAYLIGHT
TZOFFSETFROM:-0500
TZOFFSETTO:-0400
TZNAME:EDT
DTSTART:20260308T070000
END:DAYLIGHT
BEGIN:STANDARD
TZOFFSETFROM:-0400
TZOFFSETTO:-0500
TZNAME:EST
DTSTART:20261101T060000
END:STANDARD
BEGIN:DAYLIGHT
TZOFFSETFROM:-0500
TZOFFSETTO:-0400
TZNAME:EDT
DTSTART:20270314T070000
END:DAYLIGHT
BEGIN:STANDARD
TZOFFSETFROM:-0400
TZOFFSETTO:-0500
TZNAME:EST
DTSTART:20271107T060000
END:STANDARD
END:VTIMEZONE
BEGIN:VEVENT
DTSTART;TZID=America/New_York:20260425T130000
DTEND;TZID=America/New_York:20260425T150000
DTSTAMP:20260424T075726
CREATED:20260404T010531Z
LAST-MODIFIED:20260404T010641Z
UID:2811-1777122000-1777129200@pauldingcountydemocrats.org
SUMMARY:Candidate Forum
DESCRIPTION:Join the Paulding Democrats on Saturday\, April 25th\, to get to know the candidates who will be on the May 19 primary ballot. We have invited all Democrats running for statewide office\, plus our local candidates for Georgia House and Senate\, county commission\, and school board. \nEvent will be held at White Oak Park – Acorn Room (indoors)\, 298 Mustang Dr\, Dallas\, 30132. Refreshments will be served. Sign up here:
URL:https://pauldingcountydemocrats.org/event/candidate-forum/
LOCATION:White Oak Park\, 298 Mustang Drive\, Dallas\, ga
ATTACH;FMTTYPE=image/png:https://pauldingcountydemocrats.org/wp-content/uploads/2026/04/Candidate-Forum.png
END:VEVENT
END:VCALENDAR