BEGIN:VCALENDAR
VERSION:2.0
PRODID:-//Paulding County Democrats - ECPv6.15.20//NONSGML v1.0//EN
CALSCALE:GREGORIAN
METHOD:PUBLISH
X-WR-CALNAME:Paulding County Democrats
X-ORIGINAL-URL:https://pauldingcountydemocrats.org
X-WR-CALDESC:Events for Paulding County Democrats
REFRESH-INTERVAL;VALUE=DURATION:PT1H
X-Robots-Tag:noindex
X-PUBLISHED-TTL:PT1H
BEGIN:VTIMEZONE
TZID:America/New_York
BEGIN:DAYLIGHT
TZOFFSETFROM:-0500
TZOFFSETTO:-0400
TZNAME:EDT
DTSTART:20240310T070000
END:DAYLIGHT
BEGIN:STANDARD
TZOFFSETFROM:-0400
TZOFFSETTO:-0500
TZNAME:EST
DTSTART:20241103T060000
END:STANDARD
BEGIN:DAYLIGHT
TZOFFSETFROM:-0500
TZOFFSETTO:-0400
TZNAME:EDT
DTSTART:20250309T070000
END:DAYLIGHT
BEGIN:STANDARD
TZOFFSETFROM:-0400
TZOFFSETTO:-0500
TZNAME:EST
DTSTART:20251102T060000
END:STANDARD
BEGIN:DAYLIGHT
TZOFFSETFROM:-0500
TZOFFSETTO:-0400
TZNAME:EDT
DTSTART:20260308T070000
END:DAYLIGHT
BEGIN:STANDARD
TZOFFSETFROM:-0400
TZOFFSETTO:-0500
TZNAME:EST
DTSTART:20261101T060000
END:STANDARD
END:VTIMEZONE
BEGIN:VEVENT
DTSTART;TZID=America/New_York:20250712T140000
DTEND;TZID=America/New_York:20250712T160000
DTSTAMP:20260424T180714
CREATED:20250323T025431Z
LAST-MODIFIED:20250707T045323Z
UID:1970-1752328800-1752336000@pauldingcountydemocrats.org
SUMMARY:July 2025 Business Meeting
DESCRIPTION:The Paulding County Democratic Committee invites all members\, supporters\, and community allies to our July 2025 Business Meeting. This is your chance to get involved\, stay informed\, and help shape the future of our county\, state\, and country! \nWe’ll be electing new officers\, approving a budget\, hearing from candidates\, and building on our community involvement—this month with CAYA Reconciliation Ministries. \nWe’re collecting nonperishable food donations\, including (bread\, individual salty snacks\, individual sweet snacks\, fruit items\, pudding cups\, juice boxes\, ziploc bags\, and brown lunch sacks) to donate. Please check out https://www.cayaministry.com/lunch-program-needs-volunteers or give them a call at 770-445-9303 to find their highest need items.
URL:https://pauldingcountydemocrats.org/event/july-2025-business-meeting/
LOCATION:Paulding Senior Center\, 210 Paulding Lane\, Dallas\, GA\, 30132\, United States
CATEGORIES:Business Meeting
ATTACH;FMTTYPE=image/png:https://pauldingcountydemocrats.org/wp-content/uploads/2025/03/July-2025-Business-Meeting.png
END:VEVENT
END:VCALENDAR