BEGIN:VCALENDAR
VERSION:2.0
PRODID:-//Paulding County Democrats - ECPv6.15.20//NONSGML v1.0//EN
CALSCALE:GREGORIAN
METHOD:PUBLISH
X-WR-CALNAME:Paulding County Democrats
X-ORIGINAL-URL:https://pauldingcountydemocrats.org
X-WR-CALDESC:Events for Paulding County Democrats
REFRESH-INTERVAL;VALUE=DURATION:PT1H
X-Robots-Tag:noindex
X-PUBLISHED-TTL:PT1H
BEGIN:VTIMEZONE
TZID:America/New_York
BEGIN:DAYLIGHT
TZOFFSETFROM:-0500
TZOFFSETTO:-0400
TZNAME:EDT
DTSTART:20240310T070000
END:DAYLIGHT
BEGIN:STANDARD
TZOFFSETFROM:-0400
TZOFFSETTO:-0500
TZNAME:EST
DTSTART:20241103T060000
END:STANDARD
BEGIN:DAYLIGHT
TZOFFSETFROM:-0500
TZOFFSETTO:-0400
TZNAME:EDT
DTSTART:20250309T070000
END:DAYLIGHT
BEGIN:STANDARD
TZOFFSETFROM:-0400
TZOFFSETTO:-0500
TZNAME:EST
DTSTART:20251102T060000
END:STANDARD
BEGIN:DAYLIGHT
TZOFFSETFROM:-0500
TZOFFSETTO:-0400
TZNAME:EDT
DTSTART:20260308T070000
END:DAYLIGHT
BEGIN:STANDARD
TZOFFSETFROM:-0400
TZOFFSETTO:-0500
TZNAME:EST
DTSTART:20261101T060000
END:STANDARD
END:VTIMEZONE
BEGIN:VEVENT
DTSTART;TZID=America/New_York:20250709T183000
DTEND;TZID=America/New_York:20250709T200000
DTSTAMP:20260424T142959
CREATED:20250707T045007Z
LAST-MODIFIED:20250707T053003Z
UID:2464-1752085800-1752091200@pauldingcountydemocrats.org
SUMMARY:Candidate Interest Meeting
DESCRIPTION:RSVP on Mobilize: https://mobilize.us/s/bVV0MC \nTired of the same-old-same-old at city hall? Wondering why our county is smothered in storage facilities and car washes? Thinking there’s GOT to be someone making better choices for Paulding County’s future? \nTHAT DECISION MAKER COULD BE YOU! \nCome hear from elected officials and former candidates about their experience campaigning and what their day-to-day looks like serving their community. \nIf you’ve ever thought about running in ANY capacity (for races in 2025 and/or 2026)\, please bring questions! From the municipal level on up\, this event is for the working parents\, for the students\, for the recent grads\, and for the retirees looking to make a positive difference on our community—because our government will never reflect us if people like us don’t take part. \nLight refreshments will be provided.
URL:https://pauldingcountydemocrats.org/event/candidate-interest-meeting-july-2025/
CATEGORIES:Election
ATTACH;FMTTYPE=image/png:https://pauldingcountydemocrats.org/wp-content/uploads/2025/07/Candidate-Interest-Meeting.png
END:VEVENT
END:VCALENDAR