BEGIN:VCALENDAR
VERSION:2.0
PRODID:-//Paulding County Democrats - ECPv6.15.20//NONSGML v1.0//EN
CALSCALE:GREGORIAN
METHOD:PUBLISH
X-ORIGINAL-URL:https://pauldingcountydemocrats.org
X-WR-CALDESC:Events for Paulding County Democrats
REFRESH-INTERVAL;VALUE=DURATION:PT1H
X-Robots-Tag:noindex
X-PUBLISHED-TTL:PT1H
BEGIN:VTIMEZONE
TZID:America/New_York
BEGIN:DAYLIGHT
TZOFFSETFROM:-0500
TZOFFSETTO:-0400
TZNAME:EDT
DTSTART:20240310T070000
END:DAYLIGHT
BEGIN:STANDARD
TZOFFSETFROM:-0400
TZOFFSETTO:-0500
TZNAME:EST
DTSTART:20241103T060000
END:STANDARD
BEGIN:DAYLIGHT
TZOFFSETFROM:-0500
TZOFFSETTO:-0400
TZNAME:EDT
DTSTART:20250309T070000
END:DAYLIGHT
BEGIN:STANDARD
TZOFFSETFROM:-0400
TZOFFSETTO:-0500
TZNAME:EST
DTSTART:20251102T060000
END:STANDARD
BEGIN:DAYLIGHT
TZOFFSETFROM:-0500
TZOFFSETTO:-0400
TZNAME:EDT
DTSTART:20260308T070000
END:DAYLIGHT
BEGIN:STANDARD
TZOFFSETFROM:-0400
TZOFFSETTO:-0500
TZNAME:EST
DTSTART:20261101T060000
END:STANDARD
END:VTIMEZONE
BEGIN:VEVENT
DTSTART;TZID=America/New_York:20250922T183000
DTEND;TZID=America/New_York:20250922T210000
DTSTAMP:20260424T121917
CREATED:20250920T042640Z
LAST-MODIFIED:20250920T042720Z
UID:2572-1758565800-1758574800@pauldingcountydemocrats.org
SUMMARY:Pizza and Postcards
DESCRIPTION:Register on Mobilize: https://mobilize.us/s/D5yihu (This event will be held at a private residence. Location will be provided through Mobilize.) \nHelp us reach our Paulding voters who are off the beaten path and not so likely to get their doors knocked. Hand-addressed postcards are a great attention-grabber! We will have cards and plenty of pens. Can you donate any postcard stamps (61 cents)? Please bring them with you! We will provide pizza\, drinks\, and other refreshments.
URL:https://pauldingcountydemocrats.org/event/pizza-and-postcards/
CATEGORIES:Election
ATTACH;FMTTYPE=image/jpeg:https://pauldingcountydemocrats.org/wp-content/uploads/2025/09/Instagram-45-.jpg
END:VEVENT
END:VCALENDAR