BEGIN:VCALENDAR
VERSION:2.0
PRODID:-//Paulding County Democrats - ECPv6.15.20//NONSGML v1.0//EN
CALSCALE:GREGORIAN
METHOD:PUBLISH
X-ORIGINAL-URL:https://pauldingcountydemocrats.org
X-WR-CALDESC:Events for Paulding County Democrats
REFRESH-INTERVAL;VALUE=DURATION:PT1H
X-Robots-Tag:noindex
X-PUBLISHED-TTL:PT1H
BEGIN:VTIMEZONE
TZID:America/New_York
BEGIN:DAYLIGHT
TZOFFSETFROM:-0500
TZOFFSETTO:-0400
TZNAME:EDT
DTSTART:20250309T070000
END:DAYLIGHT
BEGIN:STANDARD
TZOFFSETFROM:-0400
TZOFFSETTO:-0500
TZNAME:EST
DTSTART:20251102T060000
END:STANDARD
BEGIN:DAYLIGHT
TZOFFSETFROM:-0500
TZOFFSETTO:-0400
TZNAME:EDT
DTSTART:20260308T070000
END:DAYLIGHT
BEGIN:STANDARD
TZOFFSETFROM:-0400
TZOFFSETTO:-0500
TZNAME:EST
DTSTART:20261101T060000
END:STANDARD
BEGIN:DAYLIGHT
TZOFFSETFROM:-0500
TZOFFSETTO:-0400
TZNAME:EDT
DTSTART:20270314T070000
END:DAYLIGHT
BEGIN:STANDARD
TZOFFSETFROM:-0400
TZOFFSETTO:-0500
TZNAME:EST
DTSTART:20271107T060000
END:STANDARD
END:VTIMEZONE
BEGIN:VEVENT
DTSTART;VALUE=DATE:20260420
DTEND;VALUE=DATE:20260421
DTSTAMP:20260424T103150
CREATED:20260413T222342Z
LAST-MODIFIED:20260413T222342Z
UID:2820-1776643200-1776729599@pauldingcountydemocrats.org
SUMMARY:Voter Registration Deadline for May 19 Primary
DESCRIPTION:
URL:https://pauldingcountydemocrats.org/event/voter-registration-deadline-for-may-19-primary/
ATTACH;FMTTYPE=image/png:https://pauldingcountydemocrats.org/wp-content/uploads/2026/04/REGISTER-BY-APRIL-20th-for-the-may-19-primary.png
END:VEVENT
BEGIN:VEVENT
DTSTART;TZID=America/New_York:20260422T100000
DTEND;TZID=America/New_York:20260422T233000
DTSTAMP:20260424T103150
CREATED:20260421T031452Z
LAST-MODIFIED:20260421T031452Z
UID:2828-1776852000-1776900600@pauldingcountydemocrats.org
SUMMARY:Blue Brunch -
DESCRIPTION:Join the Paulding Democrats for brunch and conversation\, over easy! Catch up on all the community news that’s brewing. Don’t waffle about whether to come — it will be eggs-actly what you need for a mid-week perk! (Everyone orders off the menu and pays for their own meal.) Sign up here: https://www.mobilize.us/mobilize/event/939101/
URL:https://pauldingcountydemocrats.org/event/blue-brunch-2/
LOCATION:Rodney’s BBQ\, 4724 Dallas Acworth Hwy\, Dallas\, GA\, 30132\, United States
CATEGORIES:Social
ATTACH;FMTTYPE=image/png:https://pauldingcountydemocrats.org/wp-content/uploads/2026/04/Blue-Brunch-1350-x-1350-px.png
END:VEVENT
BEGIN:VEVENT
DTSTART;TZID=America/New_York:20260425T130000
DTEND;TZID=America/New_York:20260425T150000
DTSTAMP:20260424T103150
CREATED:20260404T010531Z
LAST-MODIFIED:20260404T010641Z
UID:2811-1777122000-1777129200@pauldingcountydemocrats.org
SUMMARY:Candidate Forum
DESCRIPTION:Join the Paulding Democrats on Saturday\, April 25th\, to get to know the candidates who will be on the May 19 primary ballot. We have invited all Democrats running for statewide office\, plus our local candidates for Georgia House and Senate\, county commission\, and school board. \nEvent will be held at White Oak Park – Acorn Room (indoors)\, 298 Mustang Dr\, Dallas\, 30132. Refreshments will be served. Sign up here:
URL:https://pauldingcountydemocrats.org/event/candidate-forum/
LOCATION:White Oak Park\, 298 Mustang Drive\, Dallas\, ga
ATTACH;FMTTYPE=image/png:https://pauldingcountydemocrats.org/wp-content/uploads/2026/04/Candidate-Forum.png
END:VEVENT
BEGIN:VEVENT
DTSTART;VALUE=DATE:20260427
DTEND;VALUE=DATE:20260428
DTSTAMP:20260424T103150
CREATED:20260404T011304Z
LAST-MODIFIED:20260404T011304Z
UID:2814-1777248000-1777334399@pauldingcountydemocrats.org
SUMMARY:Early Voting for May 19 Primary Begins
DESCRIPTION:
URL:https://pauldingcountydemocrats.org/event/early-voting-for-may-19-primary-begins/
END:VEVENT
BEGIN:VEVENT
DTSTART;TZID=America/New_York:20260506T190000
DTEND;TZID=America/New_York:20260506T203000
DTSTAMP:20260424T103150
CREATED:20260421T031041Z
LAST-MODIFIED:20260421T031041Z
UID:2824-1778094000-1778099400@pauldingcountydemocrats.org
SUMMARY:Dining w/Dems
DESCRIPTION:Join your like-minded neighbors for a casual social gathering over dinner. Talk about the issues that matter most to you or just get to know some new friends. If you’re already an active Paulding Democrat\, can you bring a guest with you? Our party is growing — we don’t want to hear “I didn’t know there were Democrats in Paulding County” ever again! (Everyone orders off the menu and buys their own meal.) \nSign up here:  https://www.mobilize.us/mobilize/event/940807/
URL:https://pauldingcountydemocrats.org/event/dining-w-dems-2/
LOCATION:Downtown Eats Dallas\, 251 W Memorial Drive\, Dallas\, GA\, 30132\, United States
ATTACH;FMTTYPE=image/png:https://pauldingcountydemocrats.org/wp-content/uploads/2026/04/Dining-wDems.png
END:VEVENT
BEGIN:VEVENT
DTSTART;TZID=America/New_York:20260509T140000
DTEND;TZID=America/New_York:20260509T160000
DTSTAMP:20260424T103150
CREATED:20260423T234842Z
LAST-MODIFIED:20260423T234842Z
UID:2839-1778335200-1778342400@pauldingcountydemocrats.org
SUMMARY:Second Saturday Business Meeting
DESCRIPTION:The Paulding County Democratic Committee invites all members\, supporters\, and community allies to our May Business Meeting! We will hear from candidates up and down the ballot in 2026\, learn about how early voting is progressing for the May 19 primary\, and discuss how we can reach our organizing goals to WIN this year. \nThis is your chance to get involved\, stay informed\, and help shape the future of our county\, state\, and country! \nAt this meeting\, we will be collecting donations for A Hand Up Homeless Outreach of non-perishable proteins — fish and meat in cans or pouches\, and shelf-stable milk. Sign up here:  https://www.mobilize.us/mobilize/event/944400/
URL:https://pauldingcountydemocrats.org/event/second-saturday-business-meeting-2/
CATEGORIES:Business Meeting
ATTACH;FMTTYPE=image/png:https://pauldingcountydemocrats.org/wp-content/uploads/2026/04/second-saturday-business-meeting-1.png
END:VEVENT
END:VCALENDAR