BEGIN:VCALENDAR
VERSION:2.0
PRODID:-//Paulding County Democrats - ECPv6.15.20//NONSGML v1.0//EN
CALSCALE:GREGORIAN
METHOD:PUBLISH
X-WR-CALNAME:Paulding County Democrats
X-ORIGINAL-URL:https://pauldingcountydemocrats.org
X-WR-CALDESC:Events for Paulding County Democrats
REFRESH-INTERVAL;VALUE=DURATION:PT1H
X-Robots-Tag:noindex
X-PUBLISHED-TTL:PT1H
BEGIN:VTIMEZONE
TZID:America/New_York
BEGIN:DAYLIGHT
TZOFFSETFROM:-0500
TZOFFSETTO:-0400
TZNAME:EDT
DTSTART:20230312T070000
END:DAYLIGHT
BEGIN:STANDARD
TZOFFSETFROM:-0400
TZOFFSETTO:-0500
TZNAME:EST
DTSTART:20231105T060000
END:STANDARD
BEGIN:DAYLIGHT
TZOFFSETFROM:-0500
TZOFFSETTO:-0400
TZNAME:EDT
DTSTART:20240310T070000
END:DAYLIGHT
BEGIN:STANDARD
TZOFFSETFROM:-0400
TZOFFSETTO:-0500
TZNAME:EST
DTSTART:20241103T060000
END:STANDARD
BEGIN:DAYLIGHT
TZOFFSETFROM:-0500
TZOFFSETTO:-0400
TZNAME:EDT
DTSTART:20250309T070000
END:DAYLIGHT
BEGIN:STANDARD
TZOFFSETFROM:-0400
TZOFFSETTO:-0500
TZNAME:EST
DTSTART:20251102T060000
END:STANDARD
BEGIN:DAYLIGHT
TZOFFSETFROM:-0500
TZOFFSETTO:-0400
TZNAME:EDT
DTSTART:20260308T070000
END:DAYLIGHT
BEGIN:STANDARD
TZOFFSETFROM:-0400
TZOFFSETTO:-0500
TZNAME:EST
DTSTART:20261101T060000
END:STANDARD
END:VTIMEZONE
BEGIN:VEVENT
DTSTART;TZID=America/New_York:20250308T140000
DTEND;TZID=America/New_York:20250308T153000
DTSTAMP:20260424T213639
CREATED:20250301T212811Z
LAST-MODIFIED:20250301T212811Z
UID:1946-1741442400-1741447800@pauldingcountydemocrats.org
SUMMARY:Donuts W/ Dems
DESCRIPTION:Come meet Davan’te Jennings\, the inspirational president of the Young Democrats of Georgia\, to learn what “Taking Action Looks Like.” Then we’ll polish our voter outreach/canvassing skills to be ready for our 2025 election efforts. There are no off years!\n\nWe are meeting at the Reserve at the Timberlands clubhouse.\n\nAfter the meeting\, we will be sign waving at the corner of Highway 92 and Dallas Acworth Highway (next to Starbucks at 8655 Hiram Acworth Highway).
URL:https://pauldingcountydemocrats.org/event/donuts-w-dems/
LOCATION:The Reserve at Timberlands Clubhouse\, 564 Pine Bluff Dr\, Dallas\, GA\, 30157
END:VEVENT
BEGIN:VEVENT
DTSTART;TZID=America/New_York:20250208T140000
DTEND;TZID=America/New_York:20250208T160000
DTSTAMP:20260424T213639
CREATED:20250201T221634Z
LAST-MODIFIED:20250201T222706Z
UID:1927-1739023200-1739030400@pauldingcountydemocrats.org
SUMMARY:Dining With Dems
DESCRIPTION:Looking to connect with fellow Democrats in a fun and relaxed setting? Come join us for our regular Dining with Dems event! \nWe meet at different restaurants across Paulding County to share great food\, engaging conversations\, and ideas for building a stronger\, more connected community. \nWhether you’re a long-time member or just curious about getting involved\, Dining with Dems is the perfect opportunity to make new friends and enjoy a meal with like-minded neighbors. \nAll are welcome! Bring your appetite and your ideas—we’d love to hear them. \nRSVP: MOBILIZE.US
URL:https://pauldingcountydemocrats.org/event/dining-with-dems-4/
LOCATION:Los Magueys\, 8774 Dallas Acworth Hwy # C\, Dallas\, 30132\, United States
END:VEVENT
BEGIN:VEVENT
DTSTART;TZID=America/New_York:20250111T140000
DTEND;TZID=America/New_York:20250111T140000
DTSTAMP:20260424T213639
CREATED:20250106T220037Z
LAST-MODIFIED:20250111T045415Z
UID:1903-1736604000-1736604000@pauldingcountydemocrats.org
SUMMARY:First Quarter Business Meeting
DESCRIPTION:WEATHER UPDATE We will host this meeting over ZOOM at the same time (2-4pm EST)\, as it appears snow and ice will impact the roadways through Saturday morning.\nJoin the Paulding County Democrats for our first quarter business meeting. Meet your new executive committee officers\, join a sub-committee to keep the PC Dems moving forward\, look ahead to 2025\, and discuss what happened in 2024. Refreshments will be provided. We will be in the Reserve at Timberlands neighborhood clubhouse next to the pool.\nPlease let us know if you’ll be attending at Mobilize.us
URL:https://pauldingcountydemocrats.org/event/first-quarter-business-meeting/
LOCATION:Zoom
END:VEVENT
BEGIN:VEVENT
DTSTART;TZID=America/New_York:20241207T140000
DTEND;TZID=America/New_York:20241207T160000
DTSTAMP:20260424T213639
CREATED:20241106T041057Z
LAST-MODIFIED:20241124T000817Z
UID:1794-1733580000-1733587200@pauldingcountydemocrats.org
SUMMARY:Year-End Meeting and Food Drive
DESCRIPTION:About this event\nThis is our last organization-wide meeting of the year!\nWe will acknowledge all our hard-working volunteers\,\nElect new Executive Committee Officers and Post Seat Holders for 2025-26\,\nand have a Holiday Food Drive.\nFor more details\, and to Register (so we have an idea of how many are coming)\, Please go to Mobilize.us
URL:https://pauldingcountydemocrats.org/event/dining-with-dems-3/
LOCATION:O’Charley’s Hiram\, 4790 Jimmy Lee Smith Parkway\, Hiram\, GA\, 30141\, United States
END:VEVENT
BEGIN:VEVENT
DTSTART;TZID=America/New_York:20241207T100000
DTEND;TZID=America/New_York:20241207T100000
DTSTAMP:20260424T213639
CREATED:20241117T070017Z
LAST-MODIFIED:20241117T070017Z
UID:1800-1733565600-1733565600@pauldingcountydemocrats.org
SUMMARY:Paulding Democrats in the Dallas Christmas Parade
DESCRIPTION:  \n\n\n\nAbout this event\n\n\n\n\n\n\nCome ride the Paulding Democrats float in the Dallas Christmas Parade! We play great music\, bring great snacks\, and have a great time showing Paulding County that DEMOCRATS LIVE HERE. If we have folks willing to walk the route\, we can hand out candy to all the spectators.\nMeet at 10 a.m. in downtown Dallas to help put the final touches on our float. We will get our exact line-up location a few days before the parade.\nThe parade steps off at 11:30 a.m. and lasts about an hour.\nAfter the parade\, join the Paulding Democrats for our meeting at 2 p.m. We will elect new committee officers for 2025-26\, acknowledge all our hard-working volunteers\, and have a holiday food drive.
URL:https://pauldingcountydemocrats.org/event/paulding-democrats-in-the-dallas-christmas-parade/
LOCATION:Dallas Christmas Parade\, 519 Hardee St\, Dallas\, GA\, 30132
END:VEVENT
BEGIN:VEVENT
DTSTART;TZID=America/New_York:20241109T140000
DTEND;TZID=America/New_York:20241109T160000
DTSTAMP:20260424T213639
CREATED:20241102T195939Z
LAST-MODIFIED:20241102T202059Z
UID:1766-1731160800-1731168000@pauldingcountydemocrats.org
SUMMARY:Dining with Dems
DESCRIPTION:About this event\nIt’s our regular second Saturday social event\, Dining with Dems!\nCome meet your like minded neighbors and chat about what’s on your mind.\nPlease Register at Mobilize.us
URL:https://pauldingcountydemocrats.org/event/dining-with-dems-2/
LOCATION:La Bamba – Dallas\, 7951 Villa Rica Highway\, Dallas\, GA\, 30157
END:VEVENT
BEGIN:VEVENT
DTSTART;TZID=America/New_York:20241105T200000
DTEND;TZID=America/New_York:20241105T234500
DTSTAMP:20260424T213639
CREATED:20241102T194302Z
LAST-MODIFIED:20241104T182155Z
UID:1759-1730836800-1730850300@pauldingcountydemocrats.org
SUMMARY:Election Night Watch Party
DESCRIPTION:About this event\nJoin the Paulding Democrats and the Shawn Harris campaign to watch the election returns roll in. \nWill we know by midnight who the next President will be? Or will some states still be too close to call?\nPlease Register at Mobilize.us
URL:https://pauldingcountydemocrats.org/event/election-night-watch-party/
LOCATION:Exotic Que\, 103 W Elm St\, Rockmart\, GA\, 30153
END:VEVENT
BEGIN:VEVENT
DTSTART;TZID=America/New_York:20241105T070000
DTEND;TZID=America/New_York:20241105T190000
DTSTAMP:20260424T213639
CREATED:20241105T005102Z
LAST-MODIFIED:20241105T041252Z
UID:1785-1730790000-1730833200@pauldingcountydemocrats.org
SUMMARY:ELECTION DAY 7AM-7PM
DESCRIPTION:Check your registration status and polling location at My Voter Page \nDon’t forget your state issued photo ID.
URL:https://pauldingcountydemocrats.org/event/election-day-7am-7pm/
LOCATION:GA
END:VEVENT
BEGIN:VEVENT
DTSTART;TZID=America/New_York:20241103T150000
DTEND;TZID=America/New_York:20241103T170000
DTSTAMP:20260424T213639
CREATED:20241102T200744Z
LAST-MODIFIED:20241102T200744Z
UID:1774-1730646000-1730653200@pauldingcountydemocrats.org
SUMMARY:Sign Waving
DESCRIPTION:About this event\n\n\n\n\n\n\nJoin your fellow Paulding Democrats for the last Sunday before Election Day! Wave our candidate signs at a busy Paulding County intersection. Wear your best Dems t-shirt and swag – don’t forget a hat!\nPlease Register at Mobilize.us
URL:https://pauldingcountydemocrats.org/event/sign-waving-2/
LOCATION:Johnny’s Pizza\, 66 Hiram Douglasville Hwy\, Hiram\, GA\, 30141\, United States
END:VEVENT
BEGIN:VEVENT
DTSTART;TZID=America/New_York:20241027T140000
DTEND;TZID=America/New_York:20241027T140000
DTSTAMP:20260424T213639
CREATED:20241005T013041Z
LAST-MODIFIED:20241007T225727Z
UID:1651-1730037600-1730037600@pauldingcountydemocrats.org
SUMMARY:PC DEMS Sign Waving
DESCRIPTION:About this event\nJoin your fellow Paulding Democrats to wave our candidate signs at a busy Paulding County intersection. \nWear your best Dems t-shirt and swag – don’t forget a hat! \nBring a friend!\nPlease Register at Mobilize.Us.
URL:https://pauldingcountydemocrats.org/event/pc-dems-sign-waving/
LOCATION:Food Depot\, 6525 Hiram Douglasville Hwy\, Douglasville\, GA\, 30134\, United States
END:VEVENT
BEGIN:VEVENT
DTSTART;TZID=America/New_York:20241027T100000
DTEND;TZID=America/New_York:20241027T120000
DTSTAMP:20260424T213639
CREATED:20241007T225443Z
LAST-MODIFIED:20241007T225650Z
UID:1724-1730023200-1730030400@pauldingcountydemocrats.org
SUMMARY:PAULDING DEMS CANVASSING
DESCRIPTION:About this event\nDO SOMETHING! It’s the FINAL STRETCH for this month. We need your help to KNOCK ON DOORS! We are asking all volunteers to bring a friend or group to help us canvass our DEMS in Paulding. It’s up to us! Invite more canvassers to join the Harris-Walz 2024 Victory Campaign in Paulding. We must share our support for DEMs up and down the ballot. Canvassing together will make a huge difference. Let’s Win The Whole Dem Thing!\n\n\nPlease Register at mobilize.us!
URL:https://pauldingcountydemocrats.org/event/paulding-county-dems/
LOCATION:A Taste of Cindy’s Kitchen\, 3606 Atlanta Highway\, Hiram\, GA\, 30141\, United States
END:VEVENT
BEGIN:VEVENT
DTSTART;TZID=America/New_York:20241026T140000
DTEND;TZID=America/New_York:20241026T140000
DTSTAMP:20260424T213639
CREATED:20241005T014845Z
LAST-MODIFIED:20241007T225759Z
UID:1664-1729951200-1729951200@pauldingcountydemocrats.org
SUMMARY:PC DEMS SIGN WAVING
DESCRIPTION:About this event\nJoin your fellow Paulding Democrats to wave our candidate signs at a busy Paulding County intersection. \nWear your best Dems t-shirt and swag – don’t forget a hat! \nBring a friend!\nPlease Register at Mobilize.Us.
URL:https://pauldingcountydemocrats.org/event/pc-dems-sign-waving-oct-26/
LOCATION:Walmart Supercenter\, 3615 Charles Hardy Pkwy\, Dallas\, GA\, 30157\, United States
END:VEVENT
BEGIN:VEVENT
DTSTART;TZID=America/New_York:20241026T100000
DTEND;TZID=America/New_York:20241026T120000
DTSTAMP:20260424T213639
CREATED:20241007T225305Z
LAST-MODIFIED:20241007T225305Z
UID:1722-1729936800-1729944000@pauldingcountydemocrats.org
SUMMARY:PAULDING DEMS CANVASSING
DESCRIPTION:About this event\nDO SOMETHING! It’s the FINAL STRETCH for this month. We need your help to KNOCK ON DOORS! We are asking all volunteers to bring a friend or group to help us canvass our DEMS in Paulding. It’s up to us! Invite more canvassers to join the Harris-Walz 2024 Victory Campaign in Paulding. We must share our support for DEMs up and down the ballot. Canvassing together will make a huge difference. Let’s Win The Whole Dem Thing!\n\n\nPlease Register at mobilize.us!
URL:https://pauldingcountydemocrats.org/event/paulding-dems-canvassing-8/
LOCATION:A Taste of Cindy’s Kitchen\, 3606 Atlanta Highway\, Hiram\, GA\, 30141\, United States
END:VEVENT
BEGIN:VEVENT
DTSTART;TZID=America/New_York:20241023T110000
DTEND;TZID=America/New_York:20241023T130000
DTSTAMP:20260424T213639
CREATED:20241007T225127Z
LAST-MODIFIED:20241007T225127Z
UID:1720-1729681200-1729688400@pauldingcountydemocrats.org
SUMMARY:PAULDING DEMS CANVASSING
DESCRIPTION:About this event\nDO SOMETHING! It’s the FINAL STRETCH for this month. We need your help to KNOCK ON DOORS! We are asking all volunteers to bring a friend or group to help us canvass our DEMS in Paulding. It’s up to us! Invite more canvassers to join the Harris-Walz 2024 Victory Campaign in Paulding. We must share our support for DEMs up and down the ballot. Canvassing together will make a huge difference. Let’s Win The Whole Dem Thing!\n\n\nPlease Register at mobilize.us!
URL:https://pauldingcountydemocrats.org/event/paulding-dems-canvassing-7/
LOCATION:A Taste of Cindy’s Kitchen\, 3606 Atlanta Highway\, Hiram\, GA\, 30141\, United States
END:VEVENT
BEGIN:VEVENT
DTSTART;TZID=America/New_York:20241020T100000
DTEND;TZID=America/New_York:20241020T120000
DTSTAMP:20260424T213639
CREATED:20241007T224958Z
LAST-MODIFIED:20241007T224958Z
UID:1718-1729418400-1729425600@pauldingcountydemocrats.org
SUMMARY:PAULDING DEMS CANVASSING
DESCRIPTION:About this event\nDO SOMETHING! It’s the FINAL STRETCH for this month. We need your help to KNOCK ON DOORS! We are asking all volunteers to bring a friend or group to help us canvass our DEMS in Paulding. It’s up to us! Invite more canvassers to join the Harris-Walz 2024 Victory Campaign in Paulding. We must share our support for DEMs up and down the ballot. Canvassing together will make a huge difference. Let’s Win The Whole Dem Thing!\n\n\nPlease Register at mobilize.us!
URL:https://pauldingcountydemocrats.org/event/paulding-dems-canvassing-6/
LOCATION:A Taste of Cindy’s Kitchen\, 3606 Atlanta Highway\, Hiram\, GA\, 30141\, United States
END:VEVENT
BEGIN:VEVENT
DTSTART;TZID=America/New_York:20241019T140000
DTEND;TZID=America/New_York:20241019T140000
DTSTAMP:20260424T213639
CREATED:20241006T031926Z
LAST-MODIFIED:20241018T203303Z
UID:1697-1729346400-1729346400@pauldingcountydemocrats.org
SUMMARY:PC DEMS: Sign Waving Oct. 19
DESCRIPTION:About this event\nJoin your fellow Paulding Democrats to wave our candidate signs at a busy Paulding County intersection. \nWear your best Dems t-shirt and swag – don’t forget a hat! \nBring a friend!\nPlease Register at Mobilize.Us.
URL:https://pauldingcountydemocrats.org/event/pc-dems-sign-waving-oct-19/
LOCATION:Watson Government Complex\, 240 Constitution Blvd\, Dallas\, GA\, 30132\, United States
END:VEVENT
BEGIN:VEVENT
DTSTART;TZID=America/New_York:20241019T100000
DTEND;TZID=America/New_York:20241019T120000
DTSTAMP:20260424T213639
CREATED:20241007T224734Z
LAST-MODIFIED:20241007T224734Z
UID:1716-1729332000-1729339200@pauldingcountydemocrats.org
SUMMARY:PAULDING DEMS CANVASSING
DESCRIPTION:About this event\nDO SOMETHING! It’s the FINAL STRETCH for this month. We need your help to KNOCK ON DOORS! We are asking all volunteers to bring a friend or group to help us canvass our DEMS in Paulding. It’s up to us! Invite more canvassers to join the Harris-Walz 2024 Victory Campaign in Paulding. We must share our support for DEMs up and down the ballot. Canvassing together will make a huge difference. Let’s Win The Whole Dem Thing!\n\n\nPlease Register at mobilize.us!
URL:https://pauldingcountydemocrats.org/event/paulding-dems-canvassing-5/
LOCATION:A Taste of Cindy’s Kitchen\, 3606 Atlanta Highway\, Hiram\, GA\, 30141\, United States
END:VEVENT
BEGIN:VEVENT
DTSTART;TZID=America/New_York:20241019T090000
DTEND;TZID=America/New_York:20241019T170000
DTSTAMP:20260424T213639
CREATED:20240928T014145Z
LAST-MODIFIED:20240928T014145Z
UID:1603-1729328400-1729357200@pauldingcountydemocrats.org
SUMMARY:Souls to the Polls
DESCRIPTION:About this event\nJoin us for “Souls to the Polls” on October 19\, 2024\, from 9AM-5PM! Our churches have always been a beacon of hope and a pillar of our communities. Now\, more than ever\, it’s crucial that we mobilize to ensure our voices are heard and our votes count. Together\, we can make a difference by showing up in unity\, faith\, and strength. Let’s continue the legacy of civic engagement and stand up for the values that matter to us. Your vote is your voice—let’s make it heard!\nPlease Register at Mobilize.us So We Know Who To Expect\n\n 
URL:https://pauldingcountydemocrats.org/event/souls-to-the-polls/
LOCATION:Watson Government Complex\, 240 Constitution Blvd\, Dallas\, GA\, 30132\, United States
END:VEVENT
BEGIN:VEVENT
DTSTART;TZID=America/New_York:20241016T110000
DTEND;TZID=America/New_York:20241016T130000
DTSTAMP:20260424T213639
CREATED:20241007T224602Z
LAST-MODIFIED:20241007T224602Z
UID:1713-1729076400-1729083600@pauldingcountydemocrats.org
SUMMARY:PAULDING DEMS CANVASSING
DESCRIPTION:About this event\nDO SOMETHING! It’s the FINAL STRETCH for this month. We need your help to KNOCK ON DOORS! We are asking all volunteers to bring a friend or group to help us canvass our DEMS in Paulding. It’s up to us! Invite more canvassers to join the Harris-Walz 2024 Victory Campaign in Paulding. We must share our support for DEMs up and down the ballot. Canvassing together will make a huge difference. Let’s Win The Whole Dem Thing!\n\n\nPlease Register at mobilize.us!
URL:https://pauldingcountydemocrats.org/event/paulding-dems-canvassing-4/
LOCATION:A Taste of Cindy’s Kitchen\, 3606 Atlanta Highway\, Hiram\, GA\, 30141\, United States
END:VEVENT
BEGIN:VEVENT
DTSTART;TZID=America/New_York:20241015T084500
DTEND;TZID=America/New_York:20241015T110000
DTSTAMP:20260424T213639
CREATED:20241010T180947Z
LAST-MODIFIED:20241010T181058Z
UID:1737-1728981900-1728990000@pauldingcountydemocrats.org
SUMMARY:Sign waving for Early Voting
DESCRIPTION:About this event\nEarly voting starts at the Watson Government Complex on Tuesday\, October 15 at 9 a.m. Let’s kick off this election with enthusiasm by waving signs and flags at the parking lot entrance. Look for a big silver Dodge Ram pickup proudly flying a Harris/Walz flag!\nPlease register at Mobilize.us
URL:https://pauldingcountydemocrats.org/event/sign-waving-for-early-voting/
LOCATION:Watson Government Complex\, 240 Constitution Blvd\, Dallas\, GA\, 30132\, United States
END:VEVENT
BEGIN:VEVENT
DTSTART;VALUE=DATE:20241015
DTEND;VALUE=DATE:20241016
DTSTAMP:20260424T213639
CREATED:20240928T005002Z
LAST-MODIFIED:20241008T015943Z
UID:1591-1728950400-1729036799@pauldingcountydemocrats.org
SUMMARY:Early Voting Begins
DESCRIPTION:Check the Paulding County Board of Elections page for Dates\, Times\, and Locations.
URL:https://pauldingcountydemocrats.org/event/early-voting-begins/
LOCATION:GA
END:VEVENT
BEGIN:VEVENT
DTSTART;TZID=America/New_York:20241013T100000
DTEND;TZID=America/New_York:20241013T120000
DTSTAMP:20260424T213639
CREATED:20241007T224349Z
LAST-MODIFIED:20241007T224349Z
UID:1711-1728813600-1728820800@pauldingcountydemocrats.org
SUMMARY:PAULDING DEMS CANVASSING
DESCRIPTION:About this event\nDO SOMETHING! It’s the FINAL STRETCH for this month. We need your help to KNOCK ON DOORS! We are asking all volunteers to bring a friend or group to help us canvass our DEMS in Paulding. It’s up to us! Invite more canvassers to join the Harris-Walz 2024 Victory Campaign in Paulding. We must share our support for DEMs up and down the ballot. Canvassing together will make a huge difference. Let’s Win The Whole Dem Thing!\n\n\nPlease Register at mobilize.us!
URL:https://pauldingcountydemocrats.org/event/paulding-dems-canvassing-3/
LOCATION:A Taste of Cindy’s Kitchen\, 3606 Atlanta Highway\, Hiram\, GA\, 30141\, United States
END:VEVENT
BEGIN:VEVENT
DTSTART;TZID=America/New_York:20241012T140000
DTEND;TZID=America/New_York:20241012T140000
DTSTAMP:20260424T213639
CREATED:20241005T013840Z
LAST-MODIFIED:20241006T024355Z
UID:1658-1728741600-1728741600@pauldingcountydemocrats.org
SUMMARY:PC DEMS: Sign Waving Oct 12
DESCRIPTION:About this event\nJoin your fellow Paulding Democrats to wave our candidate signs at a busy Paulding County intersection. \nWear your best Dems t-shirt and swag – don’t forget a hat! \nBring a friend!\nPlease Register at Mobilize.Us.
URL:https://pauldingcountydemocrats.org/event/pc-dems-sign-waving-oct-12/
LOCATION:Johnnys Pizza Hiram\, 66 Hiram-Douglasville Hwy\, Hiram\, GA\, 30141\, United States
END:VEVENT
BEGIN:VEVENT
DTSTART;TZID=America/New_York:20241012T100000
DTEND;TZID=America/New_York:20241012T120000
DTSTAMP:20260424T213639
CREATED:20241007T224150Z
LAST-MODIFIED:20241007T224150Z
UID:1709-1728727200-1728734400@pauldingcountydemocrats.org
SUMMARY:PAULDING DEMS CANVASSING
DESCRIPTION:About this event\nDO SOMETHING! It’s the FINAL STRETCH for this month. We need your help to KNOCK ON DOORS! We are asking all volunteers to bring a friend or group to help us canvass our DEMS in Paulding. It’s up to us! Invite more canvassers to join the Harris-Walz 2024 Victory Campaign in Paulding. We must share our support for DEMs up and down the ballot. Canvassing together will make a huge difference. Let’s Win The Whole Dem Thing!\n\n\nPlease Register at mobilize.us!
URL:https://pauldingcountydemocrats.org/event/paulding-dems-canvassing-2/
LOCATION:A Taste of Cindy’s Kitchen\, 3606 Atlanta Highway\, Hiram\, GA\, 30141\, United States
END:VEVENT
BEGIN:VEVENT
DTSTART;TZID=America/New_York:20241009T110000
DTEND;TZID=America/New_York:20241009T130000
DTSTAMP:20260424T213639
CREATED:20241007T223810Z
LAST-MODIFIED:20241007T223810Z
UID:1704-1728471600-1728478800@pauldingcountydemocrats.org
SUMMARY:PAULDING DEMS CANVASSING
DESCRIPTION:About this event\nDO SOMETHING! It’s the FINAL STRETCH for this month. We need your help to KNOCK ON DOORS! We are asking all volunteers to bring a friend or group to help us canvass our DEMS in Paulding. It’s up to us! Invite more canvassers to join the Harris-Walz 2024 Victory Campaign in Paulding. We must share our support for DEMs up and down the ballot. Canvassing together will make a huge difference. Let’s Win The Whole Dem Thing!\n\n\nPlease Register at mobilize.us!
URL:https://pauldingcountydemocrats.org/event/paulding-dems-canvassing/
LOCATION:A Taste of Cindy’s Kitchen\, 3606 Atlanta Highway\, Hiram\, GA\, 30141\, United States
END:VEVENT
BEGIN:VEVENT
DTSTART;VALUE=DATE:20241007
DTEND;VALUE=DATE:20241008
DTSTAMP:20260424T213639
CREATED:20241001T011102Z
LAST-MODIFIED:20241001T011833Z
UID:1625-1728259200-1728345599@pauldingcountydemocrats.org
SUMMARY:Last Day to Register to Vote
DESCRIPTION:Oct. 7 is the last day to Register to Vote in Georgia. \nTo check your registration status\,  or to register online\, \ngoto to the My Voter Page at: mvp.sos.ga.gov
URL:https://pauldingcountydemocrats.org/event/last-day-to-register-to-vote/
LOCATION:GA
END:VEVENT
BEGIN:VEVENT
DTSTART;TZID=America/New_York:20241005T150000
DTEND;TZID=America/New_York:20241005T170000
DTSTAMP:20260424T213639
CREATED:20240927T235414Z
LAST-MODIFIED:20240928T011228Z
UID:1580-1728140400-1728147600@pauldingcountydemocrats.org
SUMMARY:Sign Waving
DESCRIPTION:About this event\n\n\n\n\n\n\nJoin your fellow Paulding Democrats to wave our candidate signs at a busy Paulding County intersection. Wear your best Dems t-shirt and swag – don’t forget a hat! \nPlease Register At Mobilize.us So We Know Who To Expect
URL:https://pauldingcountydemocrats.org/event/sign-waving/
LOCATION:RACE TRAC\, 2850 Jimmy Lee Smith Pkwy\, Hiram\, GA\, 30141\, United States
END:VEVENT
BEGIN:VEVENT
DTSTART;TZID=America/New_York:20241005T140000
DTEND;TZID=America/New_York:20241005T150000
DTSTAMP:20260424T213639
CREATED:20240927T231937Z
LAST-MODIFIED:20240928T011531Z
UID:1570-1728136800-1728140400@pauldingcountydemocrats.org
SUMMARY:Dining With Dems
DESCRIPTION:A Taste of Cindy’s Kitchen\n3606 Atlanta Hwy\nHiram\, GA 30141\n\n\n\nAbout this event\nPLEASE REGISTER ON  MOBILIZE.US SO WE KNOW WHO TO EXPECT\nMOVED TO FIRST SATURDAY IN OCTOBER. It’s our regular Saturday social event\, Dining with Dems! Come meet your like-minded neighbors and some of our Democratic candidates. We’ll also be talking about the Paulding Democrats’ Get Out The Vote efforts for now through November 5. What can you do to help our Democratic candidates get elected this year? Let’s chat! Right after Dining with Dems you can join the canvassing crew to go knock doors\, or go sign waving at the corner of Charles Hardy Parkway and Hwy 278.
URL:https://pauldingcountydemocrats.org/event/dining-with-dems/
LOCATION:A Taste of Cindy’s Kitchen\, 3606 Atlanta Highway\, Hiram\, GA\, 30141\, United States
END:VEVENT
BEGIN:VEVENT
DTSTART;TZID=America/New_York:20241005T120000
DTEND;TZID=America/New_York:20241005T150000
DTSTAMP:20260424T213639
CREATED:20241005T010204Z
LAST-MODIFIED:20241005T011057Z
UID:1637-1728129600-1728140400@pauldingcountydemocrats.org
SUMMARY:Paulding Democrats Knocking Doors for Kamala!
DESCRIPTION:About this event\n\n\n\n\n\n\nWe will be knocking doors in Paulding County every Wednesday\, Saturday and Sunday starting Oct. 5 until Election Day! \nJoin us and other Paulding Democrats to get our neighbors activated and excited to cast their votes in Paulding County!\nBEFORE ARRIVAL:\nPlease Download the app “Mini-Van”. This app is how we track your progress knocking doors.\nAndroid: https://play.google.com/store/apps/details?id=com.voteractivationnetwork.minivan&hl=en_US&pli=1\niPhone: https://apps.apple.com/us/app/minivan-touch/id352087547\nPlease come in comfortable clothing appropriate for the weather\, wear sunscreen\, and bring a water bottle.\nAnd if possible\, bring a friend/family member! \nWe aim to send every canvasser in a pair/group! If you can’t bring a partner please arrive at the start time so that we may pair you up with other canvassers!\nPlease go to Mobilize.us for more info and to register for specific dates.
URL:https://pauldingcountydemocrats.org/event/paulding-democrats-knocking-doors-for-kamala/
LOCATION:GA
END:VEVENT
BEGIN:VEVENT
DTSTART;TZID=America/New_York:20241004T180000
DTEND;TZID=America/New_York:20241004T194500
DTSTAMP:20260424T213639
CREATED:20240928T012758Z
LAST-MODIFIED:20240928T012758Z
UID:1594-1728064800-1728071100@pauldingcountydemocrats.org
SUMMARY:PC DEMS in the Community: Paulding Pro Rodeo
DESCRIPTION:  \n\n\n\n\n\n\nJoin the Paulding County Democrats as we attend the Paulding Pro Rodeo in Dallas. Wear your best Dems T-shirt and cowboy hat and help us hand out flyers encouraging the community to register and vote for our Democratic candidates. Gates open at 6 p.m. and the rodeo starts at 8 p.m. Tickets are $20. Kids 5 and under are free. If you don’t want to buy a ticket\, join us for tailgating until 7:45 p.m. Let Paulding County know that DEMOCRATS LIVE HERE AND WE’RE NOT GOING BACK! \nPLEASE REGISTER AT MOBILIZE.US SO WE KNOW WHO TO EXPECT
URL:https://pauldingcountydemocrats.org/event/pc-dems-in-the-community-paulding-pro-rodeo/
LOCATION:Earl Duncan Park at Paulding Meadows\, 472 Paulding Meadows Dr\, Dallas\, GA\, 30132\, United States
END:VEVENT
END:VCALENDAR