BEGIN:VCALENDAR
VERSION:2.0
PRODID:-//Paulding County Democrats - ECPv6.15.20//NONSGML v1.0//EN
CALSCALE:GREGORIAN
METHOD:PUBLISH
X-WR-CALNAME:Paulding County Democrats
X-ORIGINAL-URL:https://pauldingcountydemocrats.org
X-WR-CALDESC:Events for Paulding County Democrats
REFRESH-INTERVAL;VALUE=DURATION:PT1H
X-Robots-Tag:noindex
X-PUBLISHED-TTL:PT1H
BEGIN:VTIMEZONE
TZID:America/New_York
BEGIN:DAYLIGHT
TZOFFSETFROM:-0500
TZOFFSETTO:-0400
TZNAME:EDT
DTSTART:20240310T070000
END:DAYLIGHT
BEGIN:STANDARD
TZOFFSETFROM:-0400
TZOFFSETTO:-0500
TZNAME:EST
DTSTART:20241103T060000
END:STANDARD
BEGIN:DAYLIGHT
TZOFFSETFROM:-0500
TZOFFSETTO:-0400
TZNAME:EDT
DTSTART:20250309T070000
END:DAYLIGHT
BEGIN:STANDARD
TZOFFSETFROM:-0400
TZOFFSETTO:-0500
TZNAME:EST
DTSTART:20251102T060000
END:STANDARD
BEGIN:DAYLIGHT
TZOFFSETFROM:-0500
TZOFFSETTO:-0400
TZNAME:EDT
DTSTART:20260308T070000
END:DAYLIGHT
BEGIN:STANDARD
TZOFFSETFROM:-0400
TZOFFSETTO:-0500
TZNAME:EST
DTSTART:20261101T060000
END:STANDARD
END:VTIMEZONE
BEGIN:VEVENT
DTSTART;TZID=America/New_York:20250809T140000
DTEND;TZID=America/New_York:20250809T160000
DTSTAMP:20260424T170611
CREATED:20250729T031352Z
LAST-MODIFIED:20250729T032551Z
UID:2491-1754748000-1754755200@pauldingcountydemocrats.org
SUMMARY:August Business Meeting
DESCRIPTION:The Paulding County Democratic Committee invites all members\, supporters\, and community allies to our August 2025 Business Meeting. This is your chance to get involved\, stay informed\, and help shape the future of our county\, state\, and country! \n 
URL:https://pauldingcountydemocrats.org/event/august-2025-business-meeting/
LOCATION:Paulding Senior Center\, 210 Paulding Lane\, Dallas\, GA\, 30132\, United States
CATEGORIES:Business Meeting
ATTACH;FMTTYPE=image/png:https://pauldingcountydemocrats.org/wp-content/uploads/2025/07/August-Business-Meeting-1.png
END:VEVENT
BEGIN:VEVENT
DTSTART;VALUE=DATE:20250812
DTEND;VALUE=DATE:20250813
DTSTAMP:20260424T170611
CREATED:20250522T025609Z
LAST-MODIFIED:20250522T025609Z
UID:2089-1754956800-1755043199@pauldingcountydemocrats.org
SUMMARY:Paulding Board of Commissioners
DESCRIPTION:The Paulding County Board of Commissioners meets on the second and fourth Tuesday of each month. \nThese meetings are open to the public and provide an important opportunity to observe local government in action. \nWhether you’re a concerned citizen\, local advocate\, or simply curious about how decisions are made in Paulding County\, your presence matters. \nWork Session: 10:00 AM \nBoard Meeting: 2:00 PM
URL:https://pauldingcountydemocrats.org/event/paulding-board-of-commissioners-august-12-2025/
LOCATION:Watson Government Complex\, 240 Constitution Blvd\, Dallas\, GA\, 30132\, United States
CATEGORIES:Board of Commissioners
END:VEVENT
BEGIN:VEVENT
DTSTART;TZID=America/New_York:20250819T190000
DTEND;TZID=America/New_York:20250819T200000
DTSTAMP:20260424T170611
CREATED:20250729T033230Z
LAST-MODIFIED:20250729T033348Z
UID:2501-1755630000-1755633600@pauldingcountydemocrats.org
SUMMARY:Chat with the Chair
DESCRIPTION:RSVP On Mobilize To Receive Meeting Invite: https://mobilize.us/s/gEChpb \nHave questions\, ideas\, or want to get more involved? Drop by and chat with our Chair\, Madison DeLille! Whether you stay for five minutes or the full hour\, this is your chance to connect directly with local Democratic leadership. \nBring your thoughts\, your energy\, and your curiosity—we’re building a stronger\, bluer Paulding\, and we need you to do it.
URL:https://pauldingcountydemocrats.org/event/august-2025-chat-with-the-chair/
CATEGORIES:Virtual
ATTACH;FMTTYPE=image/png:https://pauldingcountydemocrats.org/wp-content/uploads/2025/07/Chat-With-The-Chair.png
END:VEVENT
BEGIN:VEVENT
DTSTART;TZID=America/New_York:20250823T180000
DTEND;TZID=America/New_York:20250823T200000
DTSTAMP:20260424T170611
CREATED:20250816T002210Z
LAST-MODIFIED:20250816T002224Z
UID:2519-1755972000-1755979200@pauldingcountydemocrats.org
SUMMARY:Blue BBQ
DESCRIPTION:Join us for our annual summer shindig where you’ll get to mingle with local Democrats\, meet 2025 and 2026 candidates\, hear from party leadership\, and have a chance to join our wonderful team of volunteers! \nPlus\, we’ll be having our first Mac ‘n Cheese Cookoff! Bring a pan of grandma’s secret recipe (or of your favorite box mix) for a chance to win bragging rights among us—and maybe a little prize! \nWe’ll be serving hamburgers\, hot dogs\, and chicken\, and a vegetarian option (indicated after purchasing your ticket). Aside from that vegetarian option\, each plate will come with the option of 2 meats with sides and drinks served buffet style!
URL:https://pauldingcountydemocrats.org/event/blue-bbq-2025/
LOCATION:White Oak Park\, 298 Mustang Drive\, Dallas\, ga
CATEGORIES:Community
ATTACH;FMTTYPE=image/jpeg:https://pauldingcountydemocrats.org/wp-content/uploads/2025/08/BLUEBBQ-flyer-V2.jpg
END:VEVENT
BEGIN:VEVENT
DTSTART;VALUE=DATE:20250826
DTEND;VALUE=DATE:20250827
DTSTAMP:20260424T170611
CREATED:20250522T025759Z
LAST-MODIFIED:20250522T025759Z
UID:2093-1756166400-1756252799@pauldingcountydemocrats.org
SUMMARY:Paulding Board of Commissioners
DESCRIPTION:The Paulding County Board of Commissioners meets on the second and fourth Tuesday of each month. \nThese meetings are open to the public and provide an important opportunity to observe local government in action. \nWhether you’re a concerned citizen\, local advocate\, or simply curious about how decisions are made in Paulding County\, your presence matters. \nWork Session: 10:00 AM \nBoard Meeting: 2:00 PM
URL:https://pauldingcountydemocrats.org/event/paulding-board-of-commissioners-august-26-2025/
LOCATION:Watson Government Complex\, 240 Constitution Blvd\, Dallas\, GA\, 30132\, United States
CATEGORIES:Board of Commissioners
END:VEVENT
END:VCALENDAR