BEGIN:VCALENDAR
VERSION:2.0
PRODID:-//Paulding County Democrats - ECPv6.15.20//NONSGML v1.0//EN
CALSCALE:GREGORIAN
METHOD:PUBLISH
X-WR-CALNAME:Paulding County Democrats
X-ORIGINAL-URL:https://pauldingcountydemocrats.org
X-WR-CALDESC:Events for Paulding County Democrats
REFRESH-INTERVAL;VALUE=DURATION:PT1H
X-Robots-Tag:noindex
X-PUBLISHED-TTL:PT1H
BEGIN:VTIMEZONE
TZID:America/New_York
BEGIN:DAYLIGHT
TZOFFSETFROM:-0500
TZOFFSETTO:-0400
TZNAME:EDT
DTSTART:20250309T070000
END:DAYLIGHT
BEGIN:STANDARD
TZOFFSETFROM:-0400
TZOFFSETTO:-0500
TZNAME:EST
DTSTART:20251102T060000
END:STANDARD
BEGIN:DAYLIGHT
TZOFFSETFROM:-0500
TZOFFSETTO:-0400
TZNAME:EDT
DTSTART:20260308T070000
END:DAYLIGHT
BEGIN:STANDARD
TZOFFSETFROM:-0400
TZOFFSETTO:-0500
TZNAME:EST
DTSTART:20261101T060000
END:STANDARD
BEGIN:DAYLIGHT
TZOFFSETFROM:-0500
TZOFFSETTO:-0400
TZNAME:EDT
DTSTART:20270314T070000
END:DAYLIGHT
BEGIN:STANDARD
TZOFFSETFROM:-0400
TZOFFSETTO:-0500
TZNAME:EST
DTSTART:20271107T060000
END:STANDARD
END:VTIMEZONE
BEGIN:VEVENT
DTSTART;TZID=America/New_York:20260318T130000
DTEND;TZID=America/New_York:20260318T160000
DTSTAMP:20260421T183441
CREATED:20260317T120513Z
LAST-MODIFIED:20260317T120513Z
UID:2748-1773838800-1773849600@pauldingcountydemocrats.org
SUMMARY:Knocking Doors for Shawn Harris - Runoff!
DESCRIPTION:On March 10\, Shawn Harris finished first in the special election for U.S. House\, but we are not done yet! The runoff is April 7\, with early voting March 30-April 2. Let’s send Shawn Harris to be our representative in Washington\, DC. Leadership Matters! \nJoin the Paulding County Democrats as we reach out to voters to tell them about the special election. We are contacting Democratic voters who need a reminder to show up for the runoff. \nPaulding Democrats will be knocking doors and delivering campaign flyers throughout the county. Door-to-door canvassing is the most effective way to get the word out about this election and to get voters to the polls. \nIf you haven’t canvassed before\, it’s fun! Get to know your neighbors and remind them how important their vote is. \nPlease wear comfortable walking shoes. Dress for the weather and bring a water bottle. Wear your Shawn Harris t-shirt\, or we will give you one. \nWe will meet in the parking lot behind McDonald’s and carpool to the canvassing location.
URL:https://pauldingcountydemocrats.org/event/knocking-doors-for-shawn-harris-runoff/
CATEGORIES:Canvassing
ATTACH;FMTTYPE=image/png:https://pauldingcountydemocrats.org/wp-content/uploads/2026/03/Shawn-Harris-Canvassing-Post.png
END:VEVENT
END:VCALENDAR